BEGIN:VCALENDAR
VERSION:2.0
PRODID:-//CleanLA - ECPv6.15.20//NONSGML v1.0//EN
CALSCALE:GREGORIAN
METHOD:PUBLISH
X-WR-CALNAME:CleanLA
X-ORIGINAL-URL:https://cleanla.lacounty.gov
X-WR-CALDESC:Events for CleanLA
REFRESH-INTERVAL;VALUE=DURATION:PT1H
X-Robots-Tag:noindex
X-PUBLISHED-TTL:PT1H
BEGIN:VTIMEZONE
TZID:America/Los_Angeles
BEGIN:DAYLIGHT
TZOFFSETFROM:-0800
TZOFFSETTO:-0700
TZNAME:PDT
DTSTART:20230312T100000
END:DAYLIGHT
BEGIN:STANDARD
TZOFFSETFROM:-0700
TZOFFSETTO:-0800
TZNAME:PST
DTSTART:20231105T090000
END:STANDARD
BEGIN:DAYLIGHT
TZOFFSETFROM:-0800
TZOFFSETTO:-0700
TZNAME:PDT
DTSTART:20240310T100000
END:DAYLIGHT
BEGIN:STANDARD
TZOFFSETFROM:-0700
TZOFFSETTO:-0800
TZNAME:PST
DTSTART:20241103T090000
END:STANDARD
BEGIN:DAYLIGHT
TZOFFSETFROM:-0800
TZOFFSETTO:-0700
TZNAME:PDT
DTSTART:20250309T100000
END:DAYLIGHT
BEGIN:STANDARD
TZOFFSETFROM:-0700
TZOFFSETTO:-0800
TZNAME:PST
DTSTART:20251102T090000
END:STANDARD
END:VTIMEZONE
BEGIN:VEVENT
DTSTART;TZID=America/Los_Angeles:20240611T180000
DTEND;TZID=America/Los_Angeles:20240611T190000
DTSTAMP:20260421T101053
CREATED:20240530T205304Z
LAST-MODIFIED:20240611T203207Z
UID:10000160-1718128800-1718132400@cleanla.lacounty.gov
SUMMARY:Belvedere GDD Community Meeting
DESCRIPTION:Upcoming Changes to Trash Collection Service\n\n\nWaste Hauler Transition Ahead! \nValley Vista Services (VVS) will be taking over as the exclusive waste and recycling hauler for all businesses in East Los Angeles and City Terrace beginning on November 1\, 2024. \nValley Vista will serve as the exclusive waste hauler for all commercial businesses within the Belvedere Garbage Disposal District\, which includes the communities of East Los Angeles and City Terrace. \nIf you were unaware that you pay for waste and recycling services through your property taxes and paid another waste hauler directly for services\, you may see some cost savings through WS.  \nBusinesses are not allowed to use another waste hauler under the new contract and are encouraged to review their waste hauling fees to ensure they are not being double charged. \nFor more information about your waste hauling services\, the upcoming transition and community meetings call (888) CLEANLA or visit lacounty.pw/belvedere.
URL:https://cleanla.lacounty.gov/event/belvedere-gdd-community-meeting/
LOCATION:CA
CATEGORIES:Clean LA
ATTACH;FMTTYPE=image/jpeg:https://cleanla.lacounty.gov/wp-content/uploads/sites/15/2024/05/3e7145b1737fad77001cd9f08095e136.jpg
END:VEVENT
END:VCALENDAR