BEGIN:VCALENDAR
VERSION:2.0
PRODID:-//CleanLA - ECPv6.15.20//NONSGML v1.0//EN
CALSCALE:GREGORIAN
METHOD:PUBLISH
X-ORIGINAL-URL:https://cleanla.lacounty.gov
X-WR-CALDESC:Events for CleanLA
REFRESH-INTERVAL;VALUE=DURATION:PT1H
X-Robots-Tag:noindex
X-PUBLISHED-TTL:PT1H
BEGIN:VTIMEZONE
TZID:America/Los_Angeles
BEGIN:DAYLIGHT
TZOFFSETFROM:-0800
TZOFFSETTO:-0700
TZNAME:PDT
DTSTART:20230312T100000
END:DAYLIGHT
BEGIN:STANDARD
TZOFFSETFROM:-0700
TZOFFSETTO:-0800
TZNAME:PST
DTSTART:20231105T090000
END:STANDARD
BEGIN:DAYLIGHT
TZOFFSETFROM:-0800
TZOFFSETTO:-0700
TZNAME:PDT
DTSTART:20240310T100000
END:DAYLIGHT
BEGIN:STANDARD
TZOFFSETFROM:-0700
TZOFFSETTO:-0800
TZNAME:PST
DTSTART:20241103T090000
END:STANDARD
BEGIN:DAYLIGHT
TZOFFSETFROM:-0800
TZOFFSETTO:-0700
TZNAME:PDT
DTSTART:20250309T100000
END:DAYLIGHT
BEGIN:STANDARD
TZOFFSETFROM:-0700
TZOFFSETTO:-0800
TZNAME:PST
DTSTART:20251102T090000
END:STANDARD
END:VTIMEZONE
BEGIN:VEVENT
DTSTART;TZID=America/Los_Angeles:20241111T180000
DTEND;TZID=America/Los_Angeles:20241111T190000
DTSTAMP:20260419T054141
CREATED:20240919T215040Z
LAST-MODIFIED:20241107T002201Z
UID:10000251-1731348000-1731351600@cleanla.lacounty.gov
SUMMARY:Webinar: Introduction to Composting
DESCRIPTION:Join us for a special Veterans Day webinar where we’ll teach you all about composting in a fun and informative way!\n\n\nWhether you’re a beginner or looking to enhance your skills\, this webinar is perfect for you. Our expert speakers will cover the basics of composting\, its benefits\, and how you can get started right at home.
URL:https://cleanla.lacounty.gov/event/webinar-introduction-to-composting-veterans-day/
LOCATION:CA
CATEGORIES:Intro to Composting,Smart Gardening
ATTACH;FMTTYPE=image/jpeg:https://cleanla.lacounty.gov/wp-content/uploads/sites/15/2024/09/ca1231867a3dd346308babc68c2238b0.jpg
END:VEVENT
END:VCALENDAR