BEGIN:VCALENDAR
VERSION:2.0
PRODID:-//CleanLA - ECPv6.15.20//NONSGML v1.0//EN
CALSCALE:GREGORIAN
METHOD:PUBLISH
X-ORIGINAL-URL:https://cleanla.lacounty.gov
X-WR-CALDESC:Events for CleanLA
REFRESH-INTERVAL;VALUE=DURATION:PT1H
X-Robots-Tag:noindex
X-PUBLISHED-TTL:PT1H
BEGIN:VTIMEZONE
TZID:America/Los_Angeles
BEGIN:DAYLIGHT
TZOFFSETFROM:-0800
TZOFFSETTO:-0700
TZNAME:PDT
DTSTART:20240310T100000
END:DAYLIGHT
BEGIN:STANDARD
TZOFFSETFROM:-0700
TZOFFSETTO:-0800
TZNAME:PST
DTSTART:20241103T090000
END:STANDARD
BEGIN:DAYLIGHT
TZOFFSETFROM:-0800
TZOFFSETTO:-0700
TZNAME:PDT
DTSTART:20250309T100000
END:DAYLIGHT
BEGIN:STANDARD
TZOFFSETFROM:-0700
TZOFFSETTO:-0800
TZNAME:PST
DTSTART:20251102T090000
END:STANDARD
BEGIN:DAYLIGHT
TZOFFSETFROM:-0800
TZOFFSETTO:-0700
TZNAME:PDT
DTSTART:20260308T100000
END:DAYLIGHT
BEGIN:STANDARD
TZOFFSETFROM:-0700
TZOFFSETTO:-0800
TZNAME:PST
DTSTART:20261101T090000
END:STANDARD
END:VTIMEZONE
BEGIN:VEVENT
DTSTART;TZID=America/Los_Angeles:20250127T180000
DTEND;TZID=America/Los_Angeles:20250127T190000
DTSTAMP:20260421T101149
CREATED:20241113T072338Z
LAST-MODIFIED:20250122T183530Z
UID:10000269-1738000800-1738004400@cleanla.lacounty.gov
SUMMARY:Seminario Web: jardinería en espacios pequeños
DESCRIPTION:¡Aprende a cultivar en espacios pequeños y convierte tu hogar en un oasis verde con nuestro evento de jardinería en línea!  En español.\n\n\nSmall-Space Gardening (Spanish) \n¡Bienvenidos al taller de jardinería en espacios pequeños! Aprende cómo cultivar tus propias plantas y vegetales\, ¡incluso si vives en un apartamento! No importa si eres principiante o experto\, ¡todos son bienvenidos! ¡Inscríbete ahora y comienza a cultivar tu propio oasis verde!
URL:https://cleanla.lacounty.gov/event/small-space-gardening-spanish/
LOCATION:CA
CATEGORIES:Small-Space Gardening,Smart Gardening,Spanish Webinars
ATTACH;FMTTYPE=image/jpeg:https://cleanla.lacounty.gov/wp-content/uploads/sites/15/2024/11/92345e023eeb525f0b8afd4d3c36f17d.jpg
END:VEVENT
END:VCALENDAR