BEGIN:VCALENDAR
VERSION:2.0
PRODID:-//CleanLA - ECPv6.15.20//NONSGML v1.0//EN
CALSCALE:GREGORIAN
METHOD:PUBLISH
X-ORIGINAL-URL:https://cleanla.lacounty.gov
X-WR-CALDESC:Events for CleanLA
REFRESH-INTERVAL;VALUE=DURATION:PT1H
X-Robots-Tag:noindex
X-PUBLISHED-TTL:PT1H
BEGIN:VTIMEZONE
TZID:America/Los_Angeles
BEGIN:DAYLIGHT
TZOFFSETFROM:-0800
TZOFFSETTO:-0700
TZNAME:PDT
DTSTART:20240310T100000
END:DAYLIGHT
BEGIN:STANDARD
TZOFFSETFROM:-0700
TZOFFSETTO:-0800
TZNAME:PST
DTSTART:20241103T090000
END:STANDARD
BEGIN:DAYLIGHT
TZOFFSETFROM:-0800
TZOFFSETTO:-0700
TZNAME:PDT
DTSTART:20250309T100000
END:DAYLIGHT
BEGIN:STANDARD
TZOFFSETFROM:-0700
TZOFFSETTO:-0800
TZNAME:PST
DTSTART:20251102T090000
END:STANDARD
BEGIN:DAYLIGHT
TZOFFSETFROM:-0800
TZOFFSETTO:-0700
TZNAME:PDT
DTSTART:20260308T100000
END:DAYLIGHT
BEGIN:STANDARD
TZOFFSETFROM:-0700
TZOFFSETTO:-0800
TZNAME:PST
DTSTART:20261101T090000
END:STANDARD
END:VTIMEZONE
BEGIN:VEVENT
DTSTART;TZID=America/Los_Angeles:20250407T180000
DTEND;TZID=America/Los_Angeles:20250407T190000
DTSTAMP:20260423T091721
CREATED:20250304T220455Z
LAST-MODIFIED:20250320T053108Z
UID:10000397-1744048800-1744052400@cleanla.lacounty.gov
SUMMARY:Seminario Web: Jardinería con poca agua
DESCRIPTION:¡Aprende a cuidar tu jardín de manera inteligente y sostenible con nuestro evento de jardinería consciente del agua!\n\n\n¿Quieres aprender a cuidar de tus plantas de una manera sostenible y respetuosa con el medio ambiente? ¡Entonces este evento es para ti! Únete a nuestro taller de Jardinería Water-Wise donde aprenderás consejos y trucos para conservar agua en tu jardín. \nNo te pierdas esta oportunidad de aprender sobre técnicas de riego eficientes y plantas que requieren menos agua. ¡Inscríbete ahora y conviértete en un experto en jardinería sostenible!
URL:https://cleanla.lacounty.gov/event/seminario-web-jardineria-con-poca-agua-2/
LOCATION:California
CATEGORIES:Smart Gardening,Spanish Webinars
ATTACH;FMTTYPE=image/jpeg:https://cleanla.lacounty.gov/wp-content/uploads/sites/15/2025/03/9a5e1cd74e20a56f2aaecd90b7774ef3.jpg
END:VEVENT
END:VCALENDAR