BEGIN:VCALENDAR
VERSION:2.0
PRODID:-//CleanLA - ECPv6.15.20//NONSGML v1.0//EN
CALSCALE:GREGORIAN
METHOD:PUBLISH
X-ORIGINAL-URL:https://cleanla.lacounty.gov
X-WR-CALDESC:Events for CleanLA
REFRESH-INTERVAL;VALUE=DURATION:PT1H
X-Robots-Tag:noindex
X-PUBLISHED-TTL:PT1H
BEGIN:VTIMEZONE
TZID:America/Los_Angeles
BEGIN:DAYLIGHT
TZOFFSETFROM:-0800
TZOFFSETTO:-0700
TZNAME:PDT
DTSTART:20240310T100000
END:DAYLIGHT
BEGIN:STANDARD
TZOFFSETFROM:-0700
TZOFFSETTO:-0800
TZNAME:PST
DTSTART:20241103T090000
END:STANDARD
BEGIN:DAYLIGHT
TZOFFSETFROM:-0800
TZOFFSETTO:-0700
TZNAME:PDT
DTSTART:20250309T100000
END:DAYLIGHT
BEGIN:STANDARD
TZOFFSETFROM:-0700
TZOFFSETTO:-0800
TZNAME:PST
DTSTART:20251102T090000
END:STANDARD
BEGIN:DAYLIGHT
TZOFFSETFROM:-0800
TZOFFSETTO:-0700
TZNAME:PDT
DTSTART:20260308T100000
END:DAYLIGHT
BEGIN:STANDARD
TZOFFSETFROM:-0700
TZOFFSETTO:-0800
TZNAME:PST
DTSTART:20261101T090000
END:STANDARD
END:VTIMEZONE
BEGIN:VEVENT
DTSTART;TZID=America/Los_Angeles:20250414T180000
DTEND;TZID=America/Los_Angeles:20250414T190000
DTSTAMP:20260420T130801
CREATED:20250304T220518Z
LAST-MODIFIED:20250414T194614Z
UID:10000392-1744653600-1744657200@cleanla.lacounty.gov
SUMMARY:Webinar:  Introduction to Composting
DESCRIPTION:Join us for a fun and informative online session on the basics of composting – perfect for beginners!\n\n\nJoin us for a fun and informative webinar where you’ll learn all about the basics of composting! Whether you’re a beginner or just looking to brush up on your skills\, this event is perfect for anyone interested in reducing waste and improving their garden. Our expert speaker will cover topics such as what materials to compost\, different composting methods\, and how to troubleshoot common issues. Don’t miss out on this opportunity to become a composting pro!
URL:https://cleanla.lacounty.gov/event/webinar-introduction-to-composting-31/
LOCATION:CA
CATEGORIES:Intro to Composting
ATTACH;FMTTYPE=image/jpeg:https://cleanla.lacounty.gov/wp-content/uploads/sites/15/2025/03/f57cb5e2f669b86848dd45da1b4ad891.jpg
END:VEVENT
END:VCALENDAR