BEGIN:VCALENDAR
VERSION:2.0
PRODID:-//CleanLA - ECPv6.15.20//NONSGML v1.0//EN
CALSCALE:GREGORIAN
METHOD:PUBLISH
X-ORIGINAL-URL:https://cleanla.lacounty.gov
X-WR-CALDESC:Events for CleanLA
REFRESH-INTERVAL;VALUE=DURATION:PT1H
X-Robots-Tag:noindex
X-PUBLISHED-TTL:PT1H
BEGIN:VTIMEZONE
TZID:America/Los_Angeles
BEGIN:DAYLIGHT
TZOFFSETFROM:-0800
TZOFFSETTO:-0700
TZNAME:PDT
DTSTART:20240310T100000
END:DAYLIGHT
BEGIN:STANDARD
TZOFFSETFROM:-0700
TZOFFSETTO:-0800
TZNAME:PST
DTSTART:20241103T090000
END:STANDARD
BEGIN:DAYLIGHT
TZOFFSETFROM:-0800
TZOFFSETTO:-0700
TZNAME:PDT
DTSTART:20250309T100000
END:DAYLIGHT
BEGIN:STANDARD
TZOFFSETFROM:-0700
TZOFFSETTO:-0800
TZNAME:PST
DTSTART:20251102T090000
END:STANDARD
BEGIN:DAYLIGHT
TZOFFSETFROM:-0800
TZOFFSETTO:-0700
TZNAME:PDT
DTSTART:20260308T100000
END:DAYLIGHT
BEGIN:STANDARD
TZOFFSETFROM:-0700
TZOFFSETTO:-0800
TZNAME:PST
DTSTART:20261101T090000
END:STANDARD
END:VTIMEZONE
BEGIN:VEVENT
DTSTART;TZID=America/Los_Angeles:20250421T180000
DTEND;TZID=America/Los_Angeles:20250421T190000
DTSTAMP:20260420T143036
CREATED:20250304T220508Z
LAST-MODIFIED:20250421T165428Z
UID:10000394-1745258400-1745262000@cleanla.lacounty.gov
SUMMARY:Webinar:  Introduction to Composting
DESCRIPTION:Join us for a fun and informative online session where we’ll teach you all about the basics of composting!\n\n\nJoin us for an exciting online event where you’ll learn all about the wonders of composting!  Our expert speakers will cover the basics of composting\, the benefits it brings to the environment\, and how you can start your own compost at home. Don’t miss out on this opportunity to make a positive impact on the planet! Register now and let’s get composting together!
URL:https://cleanla.lacounty.gov/event/webinar-introduction-to-composting-29/
LOCATION:CA
CATEGORIES:Intro to Composting
ATTACH;FMTTYPE=image/jpeg:https://cleanla.lacounty.gov/wp-content/uploads/sites/15/2025/03/4796cea597963a411671db1284525f83.jpg
END:VEVENT
END:VCALENDAR