BEGIN:VCALENDAR
VERSION:2.0
PRODID:-//CleanLA - ECPv6.15.20//NONSGML v1.0//EN
CALSCALE:GREGORIAN
METHOD:PUBLISH
X-ORIGINAL-URL:https://cleanla.lacounty.gov
X-WR-CALDESC:Events for CleanLA
REFRESH-INTERVAL;VALUE=DURATION:PT1H
X-Robots-Tag:noindex
X-PUBLISHED-TTL:PT1H
BEGIN:VTIMEZONE
TZID:America/Los_Angeles
BEGIN:DAYLIGHT
TZOFFSETFROM:-0800
TZOFFSETTO:-0700
TZNAME:PDT
DTSTART:20240310T100000
END:DAYLIGHT
BEGIN:STANDARD
TZOFFSETFROM:-0700
TZOFFSETTO:-0800
TZNAME:PST
DTSTART:20241103T090000
END:STANDARD
BEGIN:DAYLIGHT
TZOFFSETFROM:-0800
TZOFFSETTO:-0700
TZNAME:PDT
DTSTART:20250309T100000
END:DAYLIGHT
BEGIN:STANDARD
TZOFFSETFROM:-0700
TZOFFSETTO:-0800
TZNAME:PST
DTSTART:20251102T090000
END:STANDARD
BEGIN:DAYLIGHT
TZOFFSETFROM:-0800
TZOFFSETTO:-0700
TZNAME:PDT
DTSTART:20260308T100000
END:DAYLIGHT
BEGIN:STANDARD
TZOFFSETFROM:-0700
TZOFFSETTO:-0800
TZNAME:PST
DTSTART:20261101T090000
END:STANDARD
END:VTIMEZONE
BEGIN:VEVENT
DTSTART;TZID=America/Los_Angeles:20251013T170000
DTEND;TZID=America/Los_Angeles:20251013T180000
DTSTAMP:20260421T051248
CREATED:20250909T033826Z
LAST-MODIFIED:20251012T111606Z
UID:10000567-1760374800-1760378400@cleanla.lacounty.gov
SUMMARY:Webinar:  Water-Wise Gardening
DESCRIPTION:Learn how to create a beautiful garden while conserving water in our upcoming online webinar: Water-Wise Gardening!\n\n\nJoin us online to learn all about how to create a beautiful garden while conserving water.  Whether you’re a seasoned gardener or just starting out\, this webinar is perfect for anyone looking to save water and still have a thriving garden. Don’t miss out on this opportunity to green up your thumb and make a positive impact on the environment. Register now!
URL:https://cleanla.lacounty.gov/event/webinar-water-wise-gardening-13/
LOCATION:CA
CATEGORIES:Water-Wise Gardening
ATTACH;FMTTYPE=image/jpeg:https://cleanla.lacounty.gov/wp-content/uploads/sites/15/2025/09/e014cf9b5dc1df3d4c202eaed5a06ed2.jpg
END:VEVENT
END:VCALENDAR