BEGIN:VCALENDAR
VERSION:2.0
PRODID:-//CleanLA - ECPv6.15.20//NONSGML v1.0//EN
CALSCALE:GREGORIAN
METHOD:PUBLISH
X-ORIGINAL-URL:https://cleanla.lacounty.gov
X-WR-CALDESC:Events for CleanLA
REFRESH-INTERVAL;VALUE=DURATION:PT1H
X-Robots-Tag:noindex
X-PUBLISHED-TTL:PT1H
BEGIN:VTIMEZONE
TZID:America/Los_Angeles
BEGIN:DAYLIGHT
TZOFFSETFROM:-0800
TZOFFSETTO:-0700
TZNAME:PDT
DTSTART:20240310T100000
END:DAYLIGHT
BEGIN:STANDARD
TZOFFSETFROM:-0700
TZOFFSETTO:-0800
TZNAME:PST
DTSTART:20241103T090000
END:STANDARD
BEGIN:DAYLIGHT
TZOFFSETFROM:-0800
TZOFFSETTO:-0700
TZNAME:PDT
DTSTART:20250309T100000
END:DAYLIGHT
BEGIN:STANDARD
TZOFFSETFROM:-0700
TZOFFSETTO:-0800
TZNAME:PST
DTSTART:20251102T090000
END:STANDARD
BEGIN:DAYLIGHT
TZOFFSETFROM:-0800
TZOFFSETTO:-0700
TZNAME:PDT
DTSTART:20260308T100000
END:DAYLIGHT
BEGIN:STANDARD
TZOFFSETFROM:-0700
TZOFFSETTO:-0800
TZNAME:PST
DTSTART:20261101T090000
END:STANDARD
END:VTIMEZONE
BEGIN:VEVENT
DTSTART;TZID=America/Los_Angeles:20251206T090000
DTEND;TZID=America/Los_Angeles:20251206T150000
DTSTAMP:20260419T160527
CREATED:20250508T171546Z
LAST-MODIFIED:20251201T213954Z
UID:10000453-1765011600-1765033200@cleanla.lacounty.gov
SUMMARY:Household Hazardous Waste Reuse Center-AVECC
DESCRIPTION:Pick up unused or partially used products for FREE
URL:https://cleanla.lacounty.gov/event/household-hazardous-waste-reuse-center-avecc-6/
LOCATION:Antelope Valley Collection Center\, 1200 West City Ranch Road\, Palmdale\, CA\, 93551\, United States
CATEGORIES:Reuse Center
ATTACH;FMTTYPE=image/jpeg:https://cleanla.lacounty.gov/wp-content/uploads/sites/15/2024/12/c8aa39d9f574a1a4e2bfa81706bfebdf.jpg
GEO:34.5754507;-118.1770189
X-APPLE-STRUCTURED-LOCATION;VALUE=URI;X-ADDRESS=Antelope Valley Collection Center 1200 West City Ranch Road Palmdale CA 93551 United States;X-APPLE-RADIUS=500;X-TITLE=1200 West City Ranch Road:geo:-118.1770189,34.5754507
END:VEVENT
BEGIN:VEVENT
DTSTART;TZID=America/Los_Angeles:20251206T090000
DTEND;TZID=America/Los_Angeles:20251206T150000
DTSTAMP:20260419T160527
CREATED:20250508T171649Z
LAST-MODIFIED:20251201T221424Z
UID:10000464-1765011600-1765033200@cleanla.lacounty.gov
SUMMARY:Permanent HHW/E-Waste Center: Antelope Valley Collection Center
DESCRIPTION:Bring your HHW/E-Waste to dispose of FREE of charge.
URL:https://cleanla.lacounty.gov/event/permanent-hhw-e-waste-center-antelope-valley-collection-center-17/
LOCATION:Antelope Valley Collection Center\, 1200 City Ranch Road\, Palmdale\, CA\, 93551\, United States
CATEGORIES:Collection Centers
ATTACH;FMTTYPE=image/jpeg:https://cleanla.lacounty.gov/wp-content/uploads/sites/15/2024/12/6f9a0fc402ada211c068c6fd0c915ba5.jpg
GEO:34.5674947;-118.1479222
X-APPLE-STRUCTURED-LOCATION;VALUE=URI;X-ADDRESS=Antelope Valley Collection Center 1200 City Ranch Road Palmdale CA 93551 United States;X-APPLE-RADIUS=500;X-TITLE=1200 City Ranch Road:geo:-118.1479222,34.5674947
END:VEVENT
BEGIN:VEVENT
DTSTART;TZID=America/Los_Angeles:20251206T090000
DTEND;TZID=America/Los_Angeles:20251206T150000
DTSTAMP:20260419T160527
CREATED:20250922T154359Z
LAST-MODIFIED:20251201T213724Z
UID:10000587-1765011600-1765033200@cleanla.lacounty.gov
SUMMARY:City of Culver City Free HHW and E-Waste Collection Event
DESCRIPTION:Safely dispose of your household hazardous waste (HHW) and electronic waste (e-waste) free of charge!\n\n\nLos Angeles County and the Sanitation Districts host FREE one-day\, drive-through collection events where residents can drop off their HHW and e-waste. CLICK HERE to view upcoming events. \nEvents are from 9 a.m. to 3 p.m. (unless otherwise noted)\, rain or shine\, and open to all Los Angeles County residents. No appointment is needed. \nCLICK HERE to learn what to expect when attending an event. \n \nIn addition to these events\, all Los Angeles County residents may also use the following permanent collection centers to dispose of HHW and e-waste at no cost: \n\nCity of Los Angeles S.A.F.E. Centers(various locations)\nAntelope Valley Environmental Collection Center(Palmdale)\nEDCO Recycling and Transfer Center(Signal Hill)\n\nPlease note that there is a limit of 15 gallons or 125 pounds of household hazardous waste and/or e-waste per trip. Waste generated from a business will not be accepted. \n \nBUSINESS WASTE \nHazardous and electronic waste generated from businesses is not accepted at County permanent centers or collection events. \nIf you are a small business with hazardous waste\, visit www.businessrecycling.com to locate a proper recycler. \nYou may qualify for the Very Small Quantity Generator (VSQG) Program. This service is by appointment only. Please call (310) 387-1071 or email 4HCESQG@cleanharbors.com to book an appointment.
URL:https://cleanla.lacounty.gov/event/city-of-culver-city-free-hhw-and-e-waste-collection-event/
LOCATION:Wende Museum\, Front Parking Lot (Enter from Culver Blvd. at Elenda Street)\, 10808 Culver Blvd\, Culver City\, CA\, 90230\, United States
CATEGORIES:Household Hazardous Waste
ATTACH;FMTTYPE=image/jpeg:https://cleanla.lacounty.gov/wp-content/uploads/sites/15/2025/09/c5f2ec3ce06d0045ce17114679d4f182.jpg
GEO:34.0113212;-118.4041636
X-APPLE-STRUCTURED-LOCATION;VALUE=URI;X-ADDRESS=Wende Museum Front Parking Lot (Enter from Culver Blvd. at Elenda Street) 10808 Culver Blvd Culver City CA 90230 United States;X-APPLE-RADIUS=500;X-TITLE=10808 Culver Blvd:geo:-118.4041636,34.0113212
END:VEVENT
END:VCALENDAR