BEGIN:VCALENDAR
VERSION:2.0
PRODID:-//CleanLA - ECPv6.15.20//NONSGML v1.0//EN
CALSCALE:GREGORIAN
METHOD:PUBLISH
X-WR-CALNAME:CleanLA
X-ORIGINAL-URL:https://cleanla.lacounty.gov
X-WR-CALDESC:Events for CleanLA
REFRESH-INTERVAL;VALUE=DURATION:PT1H
X-Robots-Tag:noindex
X-PUBLISHED-TTL:PT1H
BEGIN:VTIMEZONE
TZID:America/Los_Angeles
BEGIN:DAYLIGHT
TZOFFSETFROM:-0800
TZOFFSETTO:-0700
TZNAME:PDT
DTSTART:20250309T100000
END:DAYLIGHT
BEGIN:STANDARD
TZOFFSETFROM:-0700
TZOFFSETTO:-0800
TZNAME:PST
DTSTART:20251102T090000
END:STANDARD
BEGIN:DAYLIGHT
TZOFFSETFROM:-0800
TZOFFSETTO:-0700
TZNAME:PDT
DTSTART:20260308T100000
END:DAYLIGHT
BEGIN:STANDARD
TZOFFSETFROM:-0700
TZOFFSETTO:-0800
TZNAME:PST
DTSTART:20261101T090000
END:STANDARD
BEGIN:DAYLIGHT
TZOFFSETFROM:-0800
TZOFFSETTO:-0700
TZNAME:PDT
DTSTART:20270314T100000
END:DAYLIGHT
BEGIN:STANDARD
TZOFFSETFROM:-0700
TZOFFSETTO:-0800
TZNAME:PST
DTSTART:20271107T090000
END:STANDARD
END:VTIMEZONE
BEGIN:VEVENT
DTSTART;TZID=America/Los_Angeles:20260413T170000
DTEND;TZID=America/Los_Angeles:20260413T180000
DTSTAMP:20260420T063157
CREATED:20260224T223845Z
LAST-MODIFIED:20260413T225917Z
UID:10000727-1776099600-1776103200@cleanla.lacounty.gov
SUMMARY:Webinar: Introduction to Composting
DESCRIPTION:Join our online webinar to learn easy tips and tricks for starting composting at home!\n\n\nJoin Our Webinar: Introduction to Composting!\nWant to learn how to turn your food scraps into garden gold? This online session is perfect for beginners curious about composting. We’ll cover the basics\, tips\, and tricks to get you started right from your home. Grab a cup of coffee and hop on for some green fun!
URL:https://cleanla.lacounty.gov/event/webinar-introduction-to-composting-98/
LOCATION:CA
CATEGORIES:Intro to Composting
ATTACH;FMTTYPE=image/jpeg:https://cleanla.lacounty.gov/wp-content/uploads/sites/15/2026/02/43c1fd2ac9695aec8b52df11925b10ed.jpg
END:VEVENT
END:VCALENDAR