BEGIN:VCALENDAR
VERSION:2.0
PRODID:-//CleanLA - ECPv6.15.20//NONSGML v1.0//EN
CALSCALE:GREGORIAN
METHOD:PUBLISH
X-WR-CALNAME:CleanLA
X-ORIGINAL-URL:https://cleanla.lacounty.gov
X-WR-CALDESC:Events for CleanLA
REFRESH-INTERVAL;VALUE=DURATION:PT1H
X-Robots-Tag:noindex
X-PUBLISHED-TTL:PT1H
BEGIN:VTIMEZONE
TZID:America/Los_Angeles
BEGIN:DAYLIGHT
TZOFFSETFROM:-0800
TZOFFSETTO:-0700
TZNAME:PDT
DTSTART:20250309T100000
END:DAYLIGHT
BEGIN:STANDARD
TZOFFSETFROM:-0700
TZOFFSETTO:-0800
TZNAME:PST
DTSTART:20251102T090000
END:STANDARD
BEGIN:DAYLIGHT
TZOFFSETFROM:-0800
TZOFFSETTO:-0700
TZNAME:PDT
DTSTART:20260308T100000
END:DAYLIGHT
BEGIN:STANDARD
TZOFFSETFROM:-0700
TZOFFSETTO:-0800
TZNAME:PST
DTSTART:20261101T090000
END:STANDARD
BEGIN:DAYLIGHT
TZOFFSETFROM:-0800
TZOFFSETTO:-0700
TZNAME:PDT
DTSTART:20270314T100000
END:DAYLIGHT
BEGIN:STANDARD
TZOFFSETFROM:-0700
TZOFFSETTO:-0800
TZNAME:PST
DTSTART:20271107T090000
END:STANDARD
END:VTIMEZONE
BEGIN:VEVENT
DTSTART;TZID=America/Los_Angeles:20260415T150000
DTEND;TZID=America/Los_Angeles:20260415T160000
DTSTAMP:20260421T024953
CREATED:20260224T223837Z
LAST-MODIFIED:20260413T225917Z
UID:10000728-1776265200-1776268800@cleanla.lacounty.gov
SUMMARY:Webinar:  Introduction to Composting
DESCRIPTION:Join our fun online webinar and learn the basics of composting to green up your garden!\n\n\nWebinar: Introduction to Composting\nHey there! Join our fun and easy online webinar all about composting. Whether you’re new to it or just curious\, we’ll cover the basics and share cool tips to turn your kitchen scraps into garden gold. Grab a cup of coffee\, get comfy\, and learn how to make your waste work for you. Don’t miss out on going green from the comfort of your home!
URL:https://cleanla.lacounty.gov/event/webinar-introduction-to-composting-97/
LOCATION:CA
CATEGORIES:Intro to Composting
ATTACH;FMTTYPE=image/jpeg:https://cleanla.lacounty.gov/wp-content/uploads/sites/15/2026/02/e2c8885047937627d63d6ff73285b8b2.jpg
END:VEVENT
END:VCALENDAR