BEGIN:VCALENDAR
VERSION:2.0
PRODID:-//CleanLA - ECPv6.15.20//NONSGML v1.0//EN
CALSCALE:GREGORIAN
METHOD:PUBLISH
X-ORIGINAL-URL:https://cleanla.lacounty.gov
X-WR-CALDESC:Events for CleanLA
REFRESH-INTERVAL;VALUE=DURATION:PT1H
X-Robots-Tag:noindex
X-PUBLISHED-TTL:PT1H
BEGIN:VTIMEZONE
TZID:America/Los_Angeles
BEGIN:DAYLIGHT
TZOFFSETFROM:-0800
TZOFFSETTO:-0700
TZNAME:PDT
DTSTART:20250309T100000
END:DAYLIGHT
BEGIN:STANDARD
TZOFFSETFROM:-0700
TZOFFSETTO:-0800
TZNAME:PST
DTSTART:20251102T090000
END:STANDARD
BEGIN:DAYLIGHT
TZOFFSETFROM:-0800
TZOFFSETTO:-0700
TZNAME:PDT
DTSTART:20260308T100000
END:DAYLIGHT
BEGIN:STANDARD
TZOFFSETFROM:-0700
TZOFFSETTO:-0800
TZNAME:PST
DTSTART:20261101T090000
END:STANDARD
BEGIN:DAYLIGHT
TZOFFSETFROM:-0800
TZOFFSETTO:-0700
TZNAME:PDT
DTSTART:20270314T100000
END:DAYLIGHT
BEGIN:STANDARD
TZOFFSETFROM:-0700
TZOFFSETTO:-0800
TZNAME:PST
DTSTART:20271107T090000
END:STANDARD
END:VTIMEZONE
BEGIN:VEVENT
DTSTART;TZID=America/Los_Angeles:20260509T090000
DTEND;TZID=America/Los_Angeles:20260509T140000
DTSTAMP:20260425T153015
CREATED:20251201T222249Z
LAST-MODIFIED:20260422T195726Z
UID:10000642-1778317200-1778335200@cleanla.lacounty.gov
SUMMARY:Permanent HHW/E-Waste Center: EDCO Environmental Collection Center
DESCRIPTION:Safely dispose of your household hazardous waste (HHW) and electronic waste (e-waste) free of charge!\n\n\nItems accepted at the EDCO Recycling and Transfer Collection Center include unwanted non-controlled pharmaceuticals\, needles and syringes\, antifreeze\, car batteries\, cleaning supplies\, cosmetics\, used motor oil\, pesticides\, household batteries\, fluorescent light bulbs\, TVs\, computers\, VCRs\, stereos\, and cell phones. Residents can bring up to 15 gallons or 125 pounds of HHW per vehicle. \nWe do not accept: Household Hazardous and electronic waste from a business\, explosives\, ammunition\, marine flares\, radioactive materials\, controlled substances\, trash and tires\, and white goods (refrigerators\, stoves\, washing machines\, etc. \nThe Center is located in one of Los Angeles’ most densely populated areas and will serve as a convenient outlet for all county residents to safely dispose of hazardous waste. \nThe Center provides a free\, convenient\, and environmentally safe method for County residents to drop off HHW/E-Waste free of charge. The Center is located at EDCO Recycling and Transfer Center\, 2755 California Ave\, in the City of Signal Hill. EDCO is typically open on the second and fourth Saturdays of every month from 9:00 a.m.- 2:00 p.m.\, except in the event of a holiday.
URL:https://cleanla.lacounty.gov/event/permanent-hhw-e-waste-center-edco-environmental-collection-center-36/
LOCATION:EDCO Recycling & Transfer (hours of operation apply to Transfer Station only)\, 2755 California Ave.\, Signal Hill\, CA\, 90755\, United States
CATEGORIES:Collection Centers
ATTACH;FMTTYPE=image/jpeg:https://cleanla.lacounty.gov/wp-content/uploads/sites/15/2025/12/9da8eb8476d54adc0dcf11bd620e8ef8.jpg
GEO:33.8076894;-118.1819309
X-APPLE-STRUCTURED-LOCATION;VALUE=URI;X-ADDRESS=EDCO Recycling & Transfer (hours of operation apply to Transfer Station only) 2755 California Ave. Signal Hill CA 90755 United States;X-APPLE-RADIUS=500;X-TITLE=2755 California Ave.:geo:-118.1819309,33.8076894
END:VEVENT
BEGIN:VEVENT
DTSTART;TZID=America/Los_Angeles:20260509T090000
DTEND;TZID=America/Los_Angeles:20260509T140000
DTSTAMP:20260425T153015
CREATED:20251217T223525Z
LAST-MODIFIED:20260422T195846Z
UID:10000649-1778317200-1778335200@cleanla.lacounty.gov
SUMMARY:Household Hazardous Waste Reuse Center-EDCO
DESCRIPTION:Pick up unused or partially used products for FREE.\n\n\nWhat is a Household Hazardous Waste Reuse Center?\nAn HHW Reuse Center is a place where residents can pick up unused or partially used products that have been taken to a Los Angeles County-operated Household Hazardous Waste Permanent Center. These products include household cleaners\, lawn and garden care\, paint\, and more. \nWhy do we have them?\nReuse Centers help divert usable materials from the waste stream\, conserve resources and energy\, and reduce costs. Los Angeles County residents can pick up these useful products for FREE. \nHow does it work?\nStop by any of the two Reuse Centers during operating hours. If you need products\, the Reuse Center may have them!You do not need to drop anything off at the HHW collection event to pick up an item from the Reuse Center. \nTo allow everyone in the community an opportunity to pick up products from the Reuse Center\, households will be able to choose up to five items per week.holidays \nEDCO2755 California Ave.Signal Hill\, CA 907559 a.m. – 2 p.m.Open every 2nd and 4th Saturday of the month\, except on holidays.
URL:https://cleanla.lacounty.gov/event/household-hazardous-waste-reuse-center-edco-18/
LOCATION:EDCO Recycling & Transfer (hours of operation apply to Transfer Station only)\, 2755 California Ave.\, Signal Hill\, CA\, 90755\, United States
CATEGORIES:Reuse Center
ATTACH;FMTTYPE=image/jpeg:https://cleanla.lacounty.gov/wp-content/uploads/sites/15/2025/12/cf1f1ef758c7c54822b360da6cb19ac5.jpg
GEO:33.8076894;-118.1819309
X-APPLE-STRUCTURED-LOCATION;VALUE=URI;X-ADDRESS=EDCO Recycling & Transfer (hours of operation apply to Transfer Station only) 2755 California Ave. Signal Hill CA 90755 United States;X-APPLE-RADIUS=500;X-TITLE=2755 California Ave.:geo:-118.1819309,33.8076894
END:VEVENT
BEGIN:VEVENT
DTSTART;TZID=America/Los_Angeles:20260509T090000
DTEND;TZID=America/Los_Angeles:20260509T150000
DTSTAMP:20260425T153015
CREATED:20260422T200018Z
LAST-MODIFIED:20260422T200018Z
UID:10000778-1778317200-1778338800@cleanla.lacounty.gov
SUMMARY:Tire Collection Event (in Gardena)
DESCRIPTION:Drop off your old tires at Rowley Park and help keep our community clean and green!\n\n\n\n\nGot old tires taking up space? Swing by the Tire Collection Event in Rowley Park! This is a perfect chance to drop off those worn-out tires and keep the environment clean. Come on down\, and get rid of those tires. Don’t miss out on the opportunity!
URL:https://cleanla.lacounty.gov/event/tire-collection-event-in-gardena/
LOCATION:Rowley Park\, Van Ness Avenue 13220\, Gardena\, CA\, 90249\, United States
CATEGORIES:Tire Recycling
ATTACH;FMTTYPE=image/jpeg:https://cleanla.lacounty.gov/wp-content/uploads/sites/15/2026/04/fc84f77e26d5154cd8cd6cb1072a2fe9.jpg
GEO:33.9112327;-118.3158755
X-APPLE-STRUCTURED-LOCATION;VALUE=URI;X-ADDRESS=Rowley Park Van Ness Avenue 13220 Gardena CA 90249 United States;X-APPLE-RADIUS=500;X-TITLE=Van Ness Avenue 13220:geo:-118.3158755,33.9112327
END:VEVENT
BEGIN:VEVENT
DTSTART;TZID=America/Los_Angeles:20260509T100000
DTEND;TZID=America/Los_Angeles:20260509T113000
DTSTAMP:20260425T153015
CREATED:20260322T213533Z
LAST-MODIFIED:20260422T195735Z
UID:10000744-1778320800-1778326200@cleanla.lacounty.gov
SUMMARY:Workshop: Organic Gardening 101(Covina)
DESCRIPTION:Join us in Covina for a hands-on Organic Gardening 101 workshop and grow your green thumb!\n\n\nWorkshop: Organic Gardening 101 (Covina)\nReady to get your hands dirty? Join us in person for a fun and friendly workshop all about organic gardening! Whether you’re a newbie or just looking to brush up on your green thumb\, this is the perfect spot to learn the basics\, share tips\, and grow your own veggies without the chemicals. Don’t miss out on this chance to connect with fellow plant lovers in Covina. Grab your sun hat and let’s get growing!
URL:https://cleanla.lacounty.gov/event/workshop-organic-gardening-101covina/
LOCATION:Covina Library\, 234 N 2nd Avenue\, Covina\, CA\, 91723\, United States
CATEGORIES:Organic and Water-wise Gardening
ATTACH;FMTTYPE=image/jpeg:https://cleanla.lacounty.gov/wp-content/uploads/sites/15/2026/03/25eeed04707a0f50b5c132761c061eec.jpg
GEO:34.0882355;-117.887458
X-APPLE-STRUCTURED-LOCATION;VALUE=URI;X-ADDRESS=Covina Library 234 N 2nd Avenue Covina CA 91723 United States;X-APPLE-RADIUS=500;X-TITLE=234 N 2nd Avenue:geo:-117.887458,34.0882355
END:VEVENT
END:VCALENDAR