BEGIN:VCALENDAR
VERSION:2.0
PRODID:-//CleanLA - ECPv6.15.20//NONSGML v1.0//EN
CALSCALE:GREGORIAN
METHOD:PUBLISH
X-WR-CALNAME:CleanLA
X-ORIGINAL-URL:https://cleanla.lacounty.gov
X-WR-CALDESC:Events for CleanLA
REFRESH-INTERVAL;VALUE=DURATION:PT1H
X-Robots-Tag:noindex
X-PUBLISHED-TTL:PT1H
BEGIN:VTIMEZONE
TZID:America/Los_Angeles
BEGIN:DAYLIGHT
TZOFFSETFROM:-0800
TZOFFSETTO:-0700
TZNAME:PDT
DTSTART:20230312T100000
END:DAYLIGHT
BEGIN:STANDARD
TZOFFSETFROM:-0700
TZOFFSETTO:-0800
TZNAME:PST
DTSTART:20231105T090000
END:STANDARD
BEGIN:DAYLIGHT
TZOFFSETFROM:-0800
TZOFFSETTO:-0700
TZNAME:PDT
DTSTART:20240310T100000
END:DAYLIGHT
BEGIN:STANDARD
TZOFFSETFROM:-0700
TZOFFSETTO:-0800
TZNAME:PST
DTSTART:20241103T090000
END:STANDARD
BEGIN:DAYLIGHT
TZOFFSETFROM:-0800
TZOFFSETTO:-0700
TZNAME:PDT
DTSTART:20250309T100000
END:DAYLIGHT
BEGIN:STANDARD
TZOFFSETFROM:-0700
TZOFFSETTO:-0800
TZNAME:PST
DTSTART:20251102T090000
END:STANDARD
END:VTIMEZONE
BEGIN:VEVENT
DTSTART;TZID=America/Los_Angeles:20240713T060000
DTEND;TZID=America/Los_Angeles:20240713T090000
DTSTAMP:20260419T085619
CREATED:20240627T195016Z
LAST-MODIFIED:20240712T220207Z
UID:10000180-1720850400-1720861200@cleanla.lacounty.gov
SUMMARY:Athens Annual Clean-Up Event
DESCRIPTION:Athens Annual Clean-Up Event on July 13th. If your regular pick-up day is Friday\, place your items on the curb on the scheduled date.\n\n\nRepublic Services will host its Annual Clean-Up Event on the dates below. Please place items at the curb by 6 a.m. of the scheduled event date. Household hazardous waste will not be collected.
URL:https://cleanla.lacounty.gov/event/athens-annual-clean-up-event/
LOCATION:Normandie Avenue & West 126th Street\, Normandie Avenue & West 126th Street\, West Athens\, CA\, 90047\, United States
CATEGORIES:Clean LA
ATTACH;FMTTYPE=image/jpeg:https://cleanla.lacounty.gov/wp-content/uploads/sites/15/2024/06/00314fce8f30bfc2244108041389bf97.jpg
GEO:33.9183299;-118.3003984
X-APPLE-STRUCTURED-LOCATION;VALUE=URI;X-ADDRESS=Normandie Avenue & West 126th Street Normandie Avenue & West 126th Street West Athens CA 90047 United States;X-APPLE-RADIUS=500;X-TITLE=Normandie Avenue & West 126th Street:geo:-118.3003984,33.9183299
END:VEVENT
END:VCALENDAR