BEGIN:VCALENDAR
VERSION:2.0
PRODID:-//CleanLA - ECPv6.15.20//NONSGML v1.0//EN
CALSCALE:GREGORIAN
METHOD:PUBLISH
X-WR-CALNAME:CleanLA
X-ORIGINAL-URL:https://cleanla.lacounty.gov
X-WR-CALDESC:Events for CleanLA
REFRESH-INTERVAL;VALUE=DURATION:PT1H
X-Robots-Tag:noindex
X-PUBLISHED-TTL:PT1H
BEGIN:VTIMEZONE
TZID:America/Los_Angeles
BEGIN:DAYLIGHT
TZOFFSETFROM:-0800
TZOFFSETTO:-0700
TZNAME:PDT
DTSTART:20250309T100000
END:DAYLIGHT
BEGIN:STANDARD
TZOFFSETFROM:-0700
TZOFFSETTO:-0800
TZNAME:PST
DTSTART:20251102T090000
END:STANDARD
BEGIN:DAYLIGHT
TZOFFSETFROM:-0800
TZOFFSETTO:-0700
TZNAME:PDT
DTSTART:20260308T100000
END:DAYLIGHT
BEGIN:STANDARD
TZOFFSETFROM:-0700
TZOFFSETTO:-0800
TZNAME:PST
DTSTART:20261101T090000
END:STANDARD
BEGIN:DAYLIGHT
TZOFFSETFROM:-0800
TZOFFSETTO:-0700
TZNAME:PDT
DTSTART:20270314T100000
END:DAYLIGHT
BEGIN:STANDARD
TZOFFSETFROM:-0700
TZOFFSETTO:-0800
TZNAME:PST
DTSTART:20271107T090000
END:STANDARD
END:VTIMEZONE
BEGIN:VEVENT
DTSTART;TZID=America/Los_Angeles:20260425T090000
DTEND;TZID=America/Los_Angeles:20260425T140000
DTSTAMP:20260422T004852
CREATED:20251224T212241Z
LAST-MODIFIED:20260413T225930Z
UID:10000688-1777107600-1777125600@cleanla.lacounty.gov
SUMMARY:Mattress Collection Event (Lake LA)
DESCRIPTION:Join us at the Mattress Collection Event where you can drop off your old mattresses and box springs for recycling!\n\n\nMattress Collection Event (Lake LA)\nCome check out our in-person Mattress Collection Event happening right at Lake LA! Have an old mattress or box spring taking up space at home? Don’t toss it\, bring them to us! We’ll make sure it gets recycled properly. Help keep our community clean and green by participating in this event. Let’s work together to make a positive impact. See you there!
URL:https://cleanla.lacounty.gov/event/mattress-collection-event-lake-la-3/
LOCATION:LA County Public Works Yard 555\, 17341 East Avenue J\, Lake Los Angeles\, CA\, 93535\, United States
CATEGORIES:Mattress Collection
ATTACH;FMTTYPE=image/jpeg:https://cleanla.lacounty.gov/wp-content/uploads/sites/15/2025/12/cda1dea41811b7432e3f15bd17c60e0d.jpg
GEO:34.6911646;-117.8188043
X-APPLE-STRUCTURED-LOCATION;VALUE=URI;X-ADDRESS=LA County Public Works Yard 555 17341 East Avenue J Lake Los Angeles CA 93535 United States;X-APPLE-RADIUS=500;X-TITLE=17341 East Avenue J:geo:-117.8188043,34.6911646
END:VEVENT
BEGIN:VEVENT
DTSTART;TZID=America/Los_Angeles:20260523T090000
DTEND;TZID=America/Los_Angeles:20260523T140000
DTSTAMP:20260422T004852
CREATED:20251224T212235Z
LAST-MODIFIED:20260413T225930Z
UID:10000689-1779526800-1779544800@cleanla.lacounty.gov
SUMMARY:Mattress Collection Event (Palmdale)
DESCRIPTION:Join us at the Mattress Collection Event in Palmdale where you can drop off your old mattresses and box springs for recycling!\n\n\nMattress Collection Event (Palmdale)\nHey there! Join us in person at the Mattress Collection Event in Palmdale.Have an old mattress or box spring taking up space at home? Don’t toss it\, bring them to us! We’ll make sure it gets recycled properly. Help keep our community clean and green by participating in this event. Let’s work together to make a positive impact. See you there!
URL:https://cleanla.lacounty.gov/event/mattress-collection-event-palmdale-3/
LOCATION:LA County Public Works Yard 557\, 38126 Sierra Highway\, Palmdale\, CA\, 93550\, United States
CATEGORIES:Mattress Collection
ATTACH;FMTTYPE=image/jpeg:https://cleanla.lacounty.gov/wp-content/uploads/sites/15/2025/12/4f36dd3ad5abd7d7faf209f8618f1232.jpg
GEO:34.5751294;-118.1155832
X-APPLE-STRUCTURED-LOCATION;VALUE=URI;X-ADDRESS=LA County Public Works Yard 557 38126 Sierra Highway Palmdale CA 93550 United States;X-APPLE-RADIUS=500;X-TITLE=38126 Sierra Highway:geo:-118.1155832,34.5751294
END:VEVENT
BEGIN:VEVENT
DTSTART;TZID=America/Los_Angeles:20260613T090000
DTEND;TZID=America/Los_Angeles:20260613T140000
DTSTAMP:20260422T004852
CREATED:20251224T212228Z
LAST-MODIFIED:20260413T225930Z
UID:10000690-1781341200-1781359200@cleanla.lacounty.gov
SUMMARY:Mattress Collection Event (Littlerock)
DESCRIPTION:Join us at the Mattress Collection Event in Littlerock where you can drop off your old mattresses and box springs for recycling!\n\n\nMattress Collection Event (Littlerock)\nHey there! Come join us in person for the Mattress Collection Event happening right in Littlerock. Have an old mattress or box spring taking up space at home? Don’t toss it\, bring them to us! We’ll make sure it gets recycled properly. Help keep our community clean and green by participating in this event. Let’s work together to make a positive impact. See you there!
URL:https://cleanla.lacounty.gov/event/mattress-collection-event-littlerock-3/
LOCATION:LA County Public Works Yard 558\, 8505 East Avenue T\, Littlerock\, CA\, 93543\, United States
CATEGORIES:Mattress Collection
ATTACH;FMTTYPE=image/jpeg:https://cleanla.lacounty.gov/wp-content/uploads/sites/15/2025/12/dc166daea65e191a6c4c2b832d3f7de4.jpg
GEO:34.5431751;-117.9786404
X-APPLE-STRUCTURED-LOCATION;VALUE=URI;X-ADDRESS=LA County Public Works Yard 558 8505 East Avenue T Littlerock CA 93543 United States;X-APPLE-RADIUS=500;X-TITLE=8505 East Avenue T:geo:-117.9786404,34.5431751
END:VEVENT
BEGIN:VEVENT
DTSTART;TZID=America/Los_Angeles:20260711T090000
DTEND;TZID=America/Los_Angeles:20260711T140000
DTSTAMP:20260422T004852
CREATED:20251224T212223Z
LAST-MODIFIED:20260413T225931Z
UID:10000691-1783760400-1783778400@cleanla.lacounty.gov
SUMMARY:Mattress Collection Event (Quartz Hill)
DESCRIPTION:Join us at the Mattress Collection Event in Quartz Hill where you can drop off your old mattresses and box springs for recycling!\n\n\nMattress Collection Event (Quartz Hill)\nHey there! Don’t miss our Mattress Collection Event happening right in Quartz Hill. Have an old mattress or box spring taking up space at home? Don’t toss it\, bring them to us! We’ll make sure it gets recycled properly. Help keep our community clean and green by participating in this event. Let’s work together to make a positive impact. See you there!
URL:https://cleanla.lacounty.gov/event/mattress-collection-event-quartz-hill-2/
LOCATION:LA County Public Works Yard 551\, 4859 West Avenue L 12\, Quartz Hill\, CA\, 93536\, United States
CATEGORIES:Mattress Collection
ATTACH;FMTTYPE=image/jpeg:https://cleanla.lacounty.gov/wp-content/uploads/sites/15/2025/12/101a181211e835b39e3250d59f614c8d.jpg
GEO:34.6609041;-118.2175366
X-APPLE-STRUCTURED-LOCATION;VALUE=URI;X-ADDRESS=LA County Public Works Yard 551 4859 West Avenue L 12 Quartz Hill CA 93536 United States;X-APPLE-RADIUS=500;X-TITLE=4859 West Avenue L 12:geo:-118.2175366,34.6609041
END:VEVENT
BEGIN:VEVENT
DTSTART;TZID=America/Los_Angeles:20260801T090000
DTEND;TZID=America/Los_Angeles:20260801T140000
DTSTAMP:20260422T004852
CREATED:20251224T212217Z
LAST-MODIFIED:20260413T225931Z
UID:10000692-1785574800-1785592800@cleanla.lacounty.gov
SUMMARY:Mattress Collection Event (Lake LA)
DESCRIPTION:Join us at the Mattress Collection Event where you can drop off your old mattresses and box springs for recycling!\n\n\nMattress Collection Event (Lake LA)\nCome check out our in-person Mattress Collection Event happening right at Lake LA! Have an old mattress or box spring taking up space at home? Don’t toss it\, bring them to us! We’ll make sure it gets recycled properly. Help keep our community clean and green by participating in this event. Let’s work together to make a positive impact. See you there!
URL:https://cleanla.lacounty.gov/event/mattress-collection-event-lake-la-2/
LOCATION:LA County Public Works Yard 555\, 17341 East Avenue J\, Lake Los Angeles\, CA\, 93535\, United States
CATEGORIES:Mattress Collection
ATTACH;FMTTYPE=image/jpeg:https://cleanla.lacounty.gov/wp-content/uploads/sites/15/2025/12/c493aad321faef933167692aea10794e.jpg
GEO:34.6911646;-117.8188043
X-APPLE-STRUCTURED-LOCATION;VALUE=URI;X-ADDRESS=LA County Public Works Yard 555 17341 East Avenue J Lake Los Angeles CA 93535 United States;X-APPLE-RADIUS=500;X-TITLE=17341 East Avenue J:geo:-117.8188043,34.6911646
END:VEVENT
BEGIN:VEVENT
DTSTART;TZID=America/Los_Angeles:20260815T090000
DTEND;TZID=America/Los_Angeles:20260815T140000
DTSTAMP:20260422T004852
CREATED:20251224T212213Z
LAST-MODIFIED:20260413T225931Z
UID:10000693-1786784400-1786802400@cleanla.lacounty.gov
SUMMARY:Mattress Collection Event (Littlerock)
DESCRIPTION:Join us at the Mattress Collection Event in Littlerock where you can drop off your old mattresses and box springs for recycling!\n\n\nMattress Collection Event (Littlerock)\nHey there! Come join us in person for the Mattress Collection Event happening right in Littlerock. Have an old mattress or box spring taking up space at home? Don’t toss it\, bring them to us! We’ll make sure it gets recycled properly. Help keep our community clean and green by participating in this event. Let’s work together to make a positive impact. See you there!
URL:https://cleanla.lacounty.gov/event/mattress-collection-event-littlerock-2/
LOCATION:LA County Public Works Yard 558\, 8505 East Avenue T\, Littlerock\, CA\, 93543\, United States
CATEGORIES:Mattress Collection
ATTACH;FMTTYPE=image/jpeg:https://cleanla.lacounty.gov/wp-content/uploads/sites/15/2025/12/f684014465760b13ce1231d13a483c44.jpg
GEO:34.5431751;-117.9786404
X-APPLE-STRUCTURED-LOCATION;VALUE=URI;X-ADDRESS=LA County Public Works Yard 558 8505 East Avenue T Littlerock CA 93543 United States;X-APPLE-RADIUS=500;X-TITLE=8505 East Avenue T:geo:-117.9786404,34.5431751
END:VEVENT
BEGIN:VEVENT
DTSTART;TZID=America/Los_Angeles:20260912T090000
DTEND;TZID=America/Los_Angeles:20260912T140000
DTSTAMP:20260422T004852
CREATED:20251224T212207Z
LAST-MODIFIED:20260413T225931Z
UID:10000694-1789203600-1789221600@cleanla.lacounty.gov
SUMMARY:Mattress Collection Event (Lake Hughes)
DESCRIPTION:Join us at the Mattress Collection Event in Lake Hughes where you can drop off your old mattresses and box springs for recycling!\n\n\nMattress Collection Event (Lake Hughes)\nHey there! Join us in person at the Mattress Collection Event in beautiful Lake Hughes.Have an old mattress or box spring taking up space at home? Don’t toss it\, bring them to us! We’ll make sure it gets recycled properly. Help keep our community clean and green by participating in this event. Let’s work together to make a positive impact. See you there!
URL:https://cleanla.lacounty.gov/event/mattress-collection-event-lake-hughes-2/
LOCATION:Lakes Community Center\, 17520 Elizabeth Lake Road\, Lake Hughes\, CA\, 93532\, United States
CATEGORIES:Mattress Collection
ATTACH;FMTTYPE=image/jpeg:https://cleanla.lacounty.gov/wp-content/uploads/sites/15/2025/12/b0ea3d7b8963aa75655134ad6ef206a0.jpg
GEO:34.6730469;-118.4397066
X-APPLE-STRUCTURED-LOCATION;VALUE=URI;X-ADDRESS=Lakes Community Center 17520 Elizabeth Lake Road Lake Hughes CA 93532 United States;X-APPLE-RADIUS=500;X-TITLE=17520 Elizabeth Lake Road:geo:-118.4397066,34.6730469
END:VEVENT
BEGIN:VEVENT
DTSTART;TZID=America/Los_Angeles:20261003T090000
DTEND;TZID=America/Los_Angeles:20261003T140000
DTSTAMP:20260422T004852
CREATED:20251224T212201Z
LAST-MODIFIED:20260413T225931Z
UID:10000695-1791018000-1791036000@cleanla.lacounty.gov
SUMMARY:Mattress Collection Event (Quartz Hill)
DESCRIPTION:Join us at the Mattress Collection Event in Quartz Hill where you can drop off your old mattresses and box springs for recycling!\n\n\nMattress Collection Event (Quartz Hill)\nHey there! Don’t miss our Mattress Collection Event happening right in Quartz Hill. Have an old mattress or box spring taking up space at home? Don’t toss it\, bring them to us! We’ll make sure it gets recycled properly. Help keep our community clean and green by participating in this event. Let’s work together to make a positive impact. See you there!
URL:https://cleanla.lacounty.gov/event/mattress-collection-event-quartz-hill/
LOCATION:LA County Public Works Yard 551\, 4859 West Avenue L 12\, Quartz Hill\, CA\, 93536\, United States
CATEGORIES:Mattress Collection
ATTACH;FMTTYPE=image/jpeg:https://cleanla.lacounty.gov/wp-content/uploads/sites/15/2025/12/e7831fd08b8a4308b716228ea0489a95.jpg
GEO:34.6609041;-118.2175366
X-APPLE-STRUCTURED-LOCATION;VALUE=URI;X-ADDRESS=LA County Public Works Yard 551 4859 West Avenue L 12 Quartz Hill CA 93536 United States;X-APPLE-RADIUS=500;X-TITLE=4859 West Avenue L 12:geo:-118.2175366,34.6609041
END:VEVENT
BEGIN:VEVENT
DTSTART;TZID=America/Los_Angeles:20261017T090000
DTEND;TZID=America/Los_Angeles:20261017T140000
DTSTAMP:20260422T004852
CREATED:20251224T212156Z
LAST-MODIFIED:20260413T225932Z
UID:10000696-1792227600-1792245600@cleanla.lacounty.gov
SUMMARY:Mattress Collection Event (Lake LA)
DESCRIPTION:Join us at the Mattress Collection Event where you can drop off your old mattresses and box springs for recycling!\n\n\nJoin Us at the Mattress Collection Event (Lake LA)!\nCome check out our in-person Mattress Collection Event happening right at Lake LA! Have an old mattress or box spring taking up space at home? Don’t toss it\, bring them to us! We’ll make sure it gets recycled properly. Help keep our community clean and green by participating in this event. Let’s work together to make a positive impact. See you there!
URL:https://cleanla.lacounty.gov/event/mattress-collection-event-lake-la/
LOCATION:LA County Public Works Yard 555\, 17341 East Avenue J\, Lake Los Angeles\, CA\, 93535\, United States
CATEGORIES:Mattress Collection
ATTACH;FMTTYPE=image/jpeg:https://cleanla.lacounty.gov/wp-content/uploads/sites/15/2025/12/ae03c762043107d183f9a792cc8dee24.jpg
GEO:34.6911646;-117.8188043
X-APPLE-STRUCTURED-LOCATION;VALUE=URI;X-ADDRESS=LA County Public Works Yard 555 17341 East Avenue J Lake Los Angeles CA 93535 United States;X-APPLE-RADIUS=500;X-TITLE=17341 East Avenue J:geo:-117.8188043,34.6911646
END:VEVENT
BEGIN:VEVENT
DTSTART;TZID=America/Los_Angeles:20261114T090000
DTEND;TZID=America/Los_Angeles:20261114T140000
DTSTAMP:20260422T004852
CREATED:20251224T212151Z
LAST-MODIFIED:20260413T225932Z
UID:10000697-1794646800-1794664800@cleanla.lacounty.gov
SUMMARY:Mattress Collection Event (Palmdale)
DESCRIPTION:Join us at the Mattress Collection Event in Palmdale where you can drop off your old mattresses and box springs for recycling!\n\n\nMattress Collection Event (Palmdale)\nHey there! Join us in person at the Mattress Collection Event in Palmdale.Have an old mattress or box spring taking up space at home? Don’t toss it\, bring them to us! We’ll make sure it gets recycled properly. Help keep our community clean and green by participating in this event. Let’s work together to make a positive impact. See you there!
URL:https://cleanla.lacounty.gov/event/mattress-collection-event-palmdale-2/
LOCATION:LA County Public Works Yard 557\, 38126 Sierra Highway\, Palmdale\, CA\, 93550\, United States
CATEGORIES:Mattress Collection
ATTACH;FMTTYPE=image/jpeg:https://cleanla.lacounty.gov/wp-content/uploads/sites/15/2025/12/e596c9a94aeb1b00fc713c9cb87c2edb.jpg
GEO:34.5751294;-118.1155832
X-APPLE-STRUCTURED-LOCATION;VALUE=URI;X-ADDRESS=LA County Public Works Yard 557 38126 Sierra Highway Palmdale CA 93550 United States;X-APPLE-RADIUS=500;X-TITLE=38126 Sierra Highway:geo:-118.1155832,34.5751294
END:VEVENT
BEGIN:VEVENT
DTSTART;TZID=America/Los_Angeles:20261205T090000
DTEND;TZID=America/Los_Angeles:20261205T140000
DTSTAMP:20260422T004852
CREATED:20251224T212146Z
LAST-MODIFIED:20260413T225943Z
UID:10000698-1796461200-1796479200@cleanla.lacounty.gov
SUMMARY:Mattress Collection Event (Littlerock)
DESCRIPTION:Join us at the Mattress Collection Event in Littlerock where you can drop off your old mattresses and box springs for recycling!\n\n\nMattress Collection Event (Littlerock)\nHey there! Come join us in person for the Mattress Collection Event happening right in Littlerock. Have an old mattress or box spring taking up space at home? Don’t toss it\, bring them to us! We’ll make sure it gets recycled properly. Help keep our community clean and green by participating in this event. Let’s work together to make a positive impact. See you there!
URL:https://cleanla.lacounty.gov/event/mattress-collection-event-littlerock/
LOCATION:LA County Public Works Yard 558\, 8505 East Avenue T\, Littlerock\, CA\, 93543\, United States
CATEGORIES:Mattress Collection
ATTACH;FMTTYPE=image/jpeg:https://cleanla.lacounty.gov/wp-content/uploads/sites/15/2025/12/27eecdbb5f28afde6393dbb826eca8cf.jpg
GEO:34.5431751;-117.9786404
X-APPLE-STRUCTURED-LOCATION;VALUE=URI;X-ADDRESS=LA County Public Works Yard 558 8505 East Avenue T Littlerock CA 93543 United States;X-APPLE-RADIUS=500;X-TITLE=8505 East Avenue T:geo:-117.9786404,34.5431751
END:VEVENT
END:VCALENDAR