BEGIN:VCALENDAR
VERSION:2.0
PRODID:-//CleanLA - ECPv6.15.20//NONSGML v1.0//EN
CALSCALE:GREGORIAN
METHOD:PUBLISH
X-WR-CALNAME:CleanLA
X-ORIGINAL-URL:https://cleanla.lacounty.gov
X-WR-CALDESC:Events for CleanLA
REFRESH-INTERVAL;VALUE=DURATION:PT1H
X-Robots-Tag:noindex
X-PUBLISHED-TTL:PT1H
BEGIN:VTIMEZONE
TZID:America/Los_Angeles
BEGIN:DAYLIGHT
TZOFFSETFROM:-0800
TZOFFSETTO:-0700
TZNAME:PDT
DTSTART:20230312T100000
END:DAYLIGHT
BEGIN:STANDARD
TZOFFSETFROM:-0700
TZOFFSETTO:-0800
TZNAME:PST
DTSTART:20231105T090000
END:STANDARD
BEGIN:DAYLIGHT
TZOFFSETFROM:-0800
TZOFFSETTO:-0700
TZNAME:PDT
DTSTART:20240310T100000
END:DAYLIGHT
BEGIN:STANDARD
TZOFFSETFROM:-0700
TZOFFSETTO:-0800
TZNAME:PST
DTSTART:20241103T090000
END:STANDARD
BEGIN:DAYLIGHT
TZOFFSETFROM:-0800
TZOFFSETTO:-0700
TZNAME:PDT
DTSTART:20250309T100000
END:DAYLIGHT
BEGIN:STANDARD
TZOFFSETFROM:-0700
TZOFFSETTO:-0800
TZNAME:PST
DTSTART:20251102T090000
END:STANDARD
END:VTIMEZONE
BEGIN:VEVENT
DTSTART;TZID=America/Los_Angeles:20241005T090000
DTEND;TZID=America/Los_Angeles:20241005T150000
DTSTAMP:20260419T090456
CREATED:20240226T015742Z
LAST-MODIFIED:20241002T232951Z
UID:10000054-1728118800-1728140400@cleanla.lacounty.gov
SUMMARY:Household Hazardous Waste Reuse Center
DESCRIPTION:Pick up unused or partially used products for FREE
URL:https://cleanla.lacounty.gov/event/household-hazardous-waste-reuse-center-29/
LOCATION:Antelope Valley Collection Center\, 1200 City Ranch Road\, Palmdale\, CA\, 93551\, United States
CATEGORIES:Reuse Center
ATTACH;FMTTYPE=image/jpeg:https://cleanla.lacounty.gov/wp-content/uploads/sites/15/2024/02/7024b8a78336bd9fee4b8d4d0846fdbf.jpg
GEO:34.5674947;-118.1479222
X-APPLE-STRUCTURED-LOCATION;VALUE=URI;X-ADDRESS=Antelope Valley Collection Center 1200 City Ranch Road Palmdale CA 93551 United States;X-APPLE-RADIUS=500;X-TITLE=1200 City Ranch Road:geo:-118.1479222,34.5674947
END:VEVENT
BEGIN:VEVENT
DTSTART;TZID=America/Los_Angeles:20241019T090000
DTEND;TZID=America/Los_Angeles:20241019T150000
DTSTAMP:20260419T090456
CREATED:20240226T015743Z
LAST-MODIFIED:20241002T232951Z
UID:10000055-1729328400-1729350000@cleanla.lacounty.gov
SUMMARY:Household Hazardous Waste Reuse Center
DESCRIPTION:Pick up unused or partially used products for FREE
URL:https://cleanla.lacounty.gov/event/household-hazardous-waste-reuse-center-30/
LOCATION:Antelope Valley Collection Center\, 1200 City Ranch Road\, Palmdale\, CA\, 93551\, United States
CATEGORIES:Reuse Center
ATTACH;FMTTYPE=image/jpeg:https://cleanla.lacounty.gov/wp-content/uploads/sites/15/2024/02/7024b8a78336bd9fee4b8d4d0846fdbf.jpg
GEO:34.5674947;-118.1479222
X-APPLE-STRUCTURED-LOCATION;VALUE=URI;X-ADDRESS=Antelope Valley Collection Center 1200 City Ranch Road Palmdale CA 93551 United States;X-APPLE-RADIUS=500;X-TITLE=1200 City Ranch Road:geo:-118.1479222,34.5674947
END:VEVENT
BEGIN:VEVENT
DTSTART;TZID=America/Los_Angeles:20241026T090000
DTEND;TZID=America/Los_Angeles:20241026T140000
DTSTAMP:20260419T090456
CREATED:20240226T015733Z
LAST-MODIFIED:20241002T232951Z
UID:10000038-1729933200-1729951200@cleanla.lacounty.gov
SUMMARY:Household Hazardous Waste Reuse Center
DESCRIPTION:Pick up unused or partially used products for FREE
URL:https://cleanla.lacounty.gov/event/household-hazardous-waste-reuse-center-13/
LOCATION:EDCO Recycling & Transfer (hours of operation apply to Transfer Station only)\, 2755 California Ave.\, Signal Hill\, CA\, 90755\, United States
CATEGORIES:Reuse Center
ATTACH;FMTTYPE=image/jpeg:https://cleanla.lacounty.gov/wp-content/uploads/sites/15/2024/02/fad1c126f5feb7fcfcfbc205e5b1519d.jpg
GEO:33.8076894;-118.1819309
X-APPLE-STRUCTURED-LOCATION;VALUE=URI;X-ADDRESS=EDCO Recycling & Transfer (hours of operation apply to Transfer Station only) 2755 California Ave. Signal Hill CA 90755 United States;X-APPLE-RADIUS=500;X-TITLE=2755 California Ave.:geo:-118.1819309,33.8076894
END:VEVENT
END:VCALENDAR