BEGIN:VCALENDAR
VERSION:2.0
PRODID:-//CleanLA - ECPv6.15.20//NONSGML v1.0//EN
CALSCALE:GREGORIAN
METHOD:PUBLISH
X-ORIGINAL-URL:https://cleanla.lacounty.gov
X-WR-CALDESC:Events for CleanLA
REFRESH-INTERVAL;VALUE=DURATION:PT1H
X-Robots-Tag:noindex
X-PUBLISHED-TTL:PT1H
BEGIN:VTIMEZONE
TZID:America/Los_Angeles
BEGIN:DAYLIGHT
TZOFFSETFROM:-0800
TZOFFSETTO:-0700
TZNAME:PDT
DTSTART:20240310T100000
END:DAYLIGHT
BEGIN:STANDARD
TZOFFSETFROM:-0700
TZOFFSETTO:-0800
TZNAME:PST
DTSTART:20241103T090000
END:STANDARD
BEGIN:DAYLIGHT
TZOFFSETFROM:-0800
TZOFFSETTO:-0700
TZNAME:PDT
DTSTART:20250309T100000
END:DAYLIGHT
BEGIN:STANDARD
TZOFFSETFROM:-0700
TZOFFSETTO:-0800
TZNAME:PST
DTSTART:20251102T090000
END:STANDARD
BEGIN:DAYLIGHT
TZOFFSETFROM:-0800
TZOFFSETTO:-0700
TZNAME:PDT
DTSTART:20260308T100000
END:DAYLIGHT
BEGIN:STANDARD
TZOFFSETFROM:-0700
TZOFFSETTO:-0800
TZNAME:PST
DTSTART:20261101T090000
END:STANDARD
END:VTIMEZONE
BEGIN:VEVENT
DTSTART;TZID=America/Los_Angeles:20250702T110000
DTEND;TZID=America/Los_Angeles:20250702T120000
DTSTAMP:20260423T203441
CREATED:20250517T035104Z
LAST-MODIFIED:20250630T181016Z
UID:10000494-1751454000-1751457600@cleanla.lacounty.gov
SUMMARY:Webinar:  Water-Wise Gardening
DESCRIPTION:Join us for a webinar on Water-Wise Gardening where we’ll share tips and tricks to help you conserve water and keep your garden beautiful.\n\n\nJoin us online for a fun and informative session on how to create a beautiful garden while conserving water. Our expert speakers will share practical tips and tricks for designing a sustainable and drought-resistant garden that thrives in any climate.  Don’t miss out on this fantastic opportunity to learn from the best in the industry. Register now and get ready to transform your garden into a water-wise oasis!
URL:https://cleanla.lacounty.gov/event/webinar-water-wise-gardening-9/
CATEGORIES:Water-Wise Gardening
ATTACH;FMTTYPE=image/jpeg:https://cleanla.lacounty.gov/wp-content/uploads/sites/15/2025/05/a69496269cc26f8595b133f966d885e0.jpg
END:VEVENT
BEGIN:VEVENT
DTSTART;TZID=America/Los_Angeles:20250709T130000
DTEND;TZID=America/Los_Angeles:20250709T140000
DTSTAMP:20260423T203441
CREATED:20250605T160244Z
LAST-MODIFIED:20250708T215713Z
UID:10000500-1752066000-1752069600@cleanla.lacounty.gov
SUMMARY:Webinar:  Introduction to Composting
DESCRIPTION:Join us for a fun and informative webinar where we’ll teach you all about composting and how to get started!\n\n\nJoin us for a Webinar where we will dive into the world of Composting! Whether you’re a beginner or looking to up your composting game\, this event is perfect for you.  Don’t miss out on this opportunity to make a positive impact on the environment! Register now to secure your spot.
URL:https://cleanla.lacounty.gov/event/webinar-introduction-to-composting-53/
CATEGORIES:Intro to Composting
ATTACH;FMTTYPE=image/jpeg:https://cleanla.lacounty.gov/wp-content/uploads/sites/15/2025/06/9a9dc6d7f4a9c4cb06f5597b717a18fa.jpg
END:VEVENT
BEGIN:VEVENT
DTSTART;TZID=America/Los_Angeles:20250710T180000
DTEND;TZID=America/Los_Angeles:20250710T190000
DTSTAMP:20260423T203441
CREATED:20250605T160238Z
LAST-MODIFIED:20250710T213311Z
UID:10000501-1752170400-1752174000@cleanla.lacounty.gov
SUMMARY:Webinar:  Introduction to Composting
DESCRIPTION:Join us for a fun and informative online session where we’ll teach you all about the basics of composting!\n\n\nJoin us for an exciting online event where you’ll learn all about the magic of composting! Whether you’re a beginner or looking to enhance your composting skills\, this webinar is perfect for you. Our expert speakers will cover the basics\, benefits\, and best practices of composting. Get ready to turn your food scraps and yard waste into nutrient-rich soil for your garden! Don’t miss out on this opportunity to make a positive impact on the environment. Register now and let’s get composting!
URL:https://cleanla.lacounty.gov/event/webinar-introduction-to-composting-52/
CATEGORIES:Intro to Composting
ATTACH;FMTTYPE=image/jpeg:https://cleanla.lacounty.gov/wp-content/uploads/sites/15/2025/06/73a3cda7703c242e66ec826d29d58566.jpg
END:VEVENT
BEGIN:VEVENT
DTSTART;TZID=America/Los_Angeles:20250712T110000
DTEND;TZID=America/Los_Angeles:20250712T123000
DTSTAMP:20260423T203441
CREATED:20250517T035059Z
LAST-MODIFIED:20250710T213540Z
UID:10000491-1752318000-1752323400@cleanla.lacounty.gov
SUMMARY:Workshop:  Organic Gardening 101 (Artesia)
DESCRIPTION:Come join us for a hands-on workshop where you’ll learn the basics of organic gardening from seed to harvest!\n\n\nWhether you’re a seasoned gardener or just starting out\, this event is perfect for anyone looking to grow their own fruits\, veggies\, and herbs in a sustainable way. Our expert instructors will cover topics like soil health\, composting\, pest control\, and more. Don’t miss this opportunity to connect with fellow garden enthusiasts and get your hands dirty!
URL:https://cleanla.lacounty.gov/event/workshop-organic-gardening-101-artesia/
LOCATION:Artesia Library\, 18801 Elaine Avenue\, Artesia\, CA\, 90701\, United States
CATEGORIES:Organic and Water-wise Gardening
ATTACH;FMTTYPE=image/jpeg:https://cleanla.lacounty.gov/wp-content/uploads/sites/15/2025/05/1f199dd5a0f41dfb731fcb7f4a451ebf.jpg
GEO:33.8604727;-118.0771172
X-APPLE-STRUCTURED-LOCATION;VALUE=URI;X-ADDRESS=Artesia Library 18801 Elaine Avenue Artesia CA 90701 United States;X-APPLE-RADIUS=500;X-TITLE=18801 Elaine Avenue:geo:-118.0771172,33.8604727
END:VEVENT
BEGIN:VEVENT
DTSTART;TZID=America/Los_Angeles:20250714T160000
DTEND;TZID=America/Los_Angeles:20250714T170000
DTSTAMP:20260423T203441
CREATED:20250517T035106Z
LAST-MODIFIED:20250714T160823Z
UID:10000495-1752508800-1752512400@cleanla.lacounty.gov
SUMMARY:Webinar:  Water-Wise Gardening
DESCRIPTION:Learn how to create a beautiful and sustainable garden while conserving water in our online Workshop: Water-Wise Gardening!\n\n\nJoin us for a fun and informative session where you’ll learn all about conserving water in your garden while keeping it lush and beautiful. Whether you’re a seasoned gardener or just starting out\, this workshop is perfect for anyone looking to create a more sustainable garden. Don’t miss out on this opportunity to upgrade your gardening skills!
URL:https://cleanla.lacounty.gov/event/webinar-water-wise-gardening-10/
CATEGORIES:Water-Wise Gardening
ATTACH;FMTTYPE=image/jpeg:https://cleanla.lacounty.gov/wp-content/uploads/sites/15/2025/05/4fcc55712fb6d1ff7afbef7539ebe279.jpg
END:VEVENT
BEGIN:VEVENT
DTSTART;TZID=America/Los_Angeles:20250716T180000
DTEND;TZID=America/Los_Angeles:20250716T190000
DTSTAMP:20260423T203441
CREATED:20250605T160057Z
LAST-MODIFIED:20250716T232209Z
UID:10000514-1752688800-1752692400@cleanla.lacounty.gov
SUMMARY:Webinar:  Seed-Starting Gardening
DESCRIPTION:Learn how to start your own garden from seeds in our online webinar – Seed-Starting Gardening!\n\n\nJoin us for a fun and informative online event where we will dive into the world of seed-starting gardening! Whether you’re a seasoned pro or just starting out\, this webinar is perfect for anyone looking to improve their gardening skills. Don’t miss out on this opportunity to connect with fellow gardeners and expand your knowledge. Sign up today and get ready to grow your green thumb!
URL:https://cleanla.lacounty.gov/event/webinar-seed-starting-gardening/
CATEGORIES:Smart Gardening
ATTACH;FMTTYPE=image/jpeg:https://cleanla.lacounty.gov/wp-content/uploads/sites/15/2025/06/ad2b0aba96b4abfa3159138b17441fec.jpg
END:VEVENT
BEGIN:VEVENT
DTSTART;TZID=America/Los_Angeles:20250719T090000
DTEND;TZID=America/Los_Angeles:20250719T140000
DTSTAMP:20260423T203441
CREATED:20250630T180755Z
LAST-MODIFIED:20250717T172849Z
UID:10000541-1752915600-1752933600@cleanla.lacounty.gov
SUMMARY:Mattress Collection Event (in South Los Angeles)
DESCRIPTION:Looking to get rid of an old mattress? Just load it up & drop it off at a FREE Mattress Collection Event in South LA at Magic Johnson Park!\n\n\nFREE Mattress Collection & Recycling! \nGot old mattresses taking up space in your place? The LA County Countywide Mattress Recycling Program\, in partnership with the Mattress Recycling Council (MRC)\, will be hosting a FREE Mattress Collection Event at Earvin “Magic” Johnson Park in South LA! That’s right\, just load up those old mattresses/box springs/futons up and drop them off at this free event—because doing your part to keep your community clean and the environment green is always worth your time. See you there!
URL:https://cleanla.lacounty.gov/event/mattress-collection-event-in-south-los-angeles/
LOCATION:Magic Johnson Park\, 905 East El Segundo Boulevard\, Los Angeles\, CA\, 90059\, United States
CATEGORIES:Mattress Collection,Smart Gardening,Spanish Webinars
ATTACH;FMTTYPE=image/jpeg:https://cleanla.lacounty.gov/wp-content/uploads/sites/15/2025/06/320e14715b31eb1a4f366209d3347802.jpg
GEO:33.9195318;-118.2607023
X-APPLE-STRUCTURED-LOCATION;VALUE=URI;X-ADDRESS=Magic Johnson Park 905 East El Segundo Boulevard Los Angeles CA 90059 United States;X-APPLE-RADIUS=500;X-TITLE=905 East El Segundo Boulevard:geo:-118.2607023,33.9195318
END:VEVENT
BEGIN:VEVENT
DTSTART;TZID=America/Los_Angeles:20250719T110000
DTEND;TZID=America/Los_Angeles:20250719T123000
DTSTAMP:20260423T203441
CREATED:20250517T035059Z
LAST-MODIFIED:20250719T002712Z
UID:10000493-1752922800-1752928200@cleanla.lacounty.gov
SUMMARY:Workshop:   Composting 101 (La Verne)
DESCRIPTION:Learn how to turn your kitchen scraps into nutrient-rich soil for your garden at our hands-on Workshop: Composting 101!\n\n\nWhether you’re a beginner or looking to improve your composting skills\, this event is perfect for you. Learn about the benefits of composting\, different composting methods\, and how to get started right in your own backyard. Don’t miss out on this opportunity to make a positive impact on the environment!
URL:https://cleanla.lacounty.gov/event/workshop-composting-101-la-verne/
LOCATION:La Verne Library\, 3640 D Street\, La Verne\, CA\, 91750\, United States
CATEGORIES:Backyard and Worm Composting
ATTACH;FMTTYPE=image/jpeg:https://cleanla.lacounty.gov/wp-content/uploads/sites/15/2025/05/0946da0c0f85acf9337c94b7bc6aa99e.jpg
GEO:34.1113896;-117.7643204
X-APPLE-STRUCTURED-LOCATION;VALUE=URI;X-ADDRESS=La Verne Library 3640 D Street La Verne CA 91750 United States;X-APPLE-RADIUS=500;X-TITLE=3640 D Street:geo:-117.7643204,34.1113896
END:VEVENT
BEGIN:VEVENT
DTSTART;TZID=America/Los_Angeles:20250721T180000
DTEND;TZID=America/Los_Angeles:20250721T190000
DTSTAMP:20260423T203441
CREATED:20250517T035059Z
LAST-MODIFIED:20250722T004230Z
UID:10000492-1753120800-1753124400@cleanla.lacounty.gov
SUMMARY:Webinar:  Small-Space Gardening
DESCRIPTION:Learn how to create a lush garden in even the tiniest of spaces at our Webinar: Small-Space Gardening!\n\n\nJoin us for this virtual event where we will explore creative ways to make the most out of your small living areas. Whether you have a tiny apartment balcony or a small backyard\, this webinar will help you create a lush and thriving garden in any space. Don’t miss out on this opportunity to green up your living space!
URL:https://cleanla.lacounty.gov/event/webinar-small-space-gardening-15/
CATEGORIES:Small-Space Gardening
ATTACH;FMTTYPE=image/jpeg:https://cleanla.lacounty.gov/wp-content/uploads/sites/15/2025/05/194393e0bf363a33a022326e8b489af0.jpg
END:VEVENT
BEGIN:VEVENT
DTSTART;TZID=America/Los_Angeles:20250723T150000
DTEND;TZID=America/Los_Angeles:20250723T160000
DTSTAMP:20260423T203441
CREATED:20250605T160230Z
LAST-MODIFIED:20250722T152858Z
UID:10000502-1753282800-1753286400@cleanla.lacounty.gov
SUMMARY:Webinar:  Introduction to Composting
DESCRIPTION:Join us for a fun and informative webinar where we’ll teach you all about composting and its benefits!\n\n\nJoin us for an exciting online event where we’ll dive into the world of composting! Whether you’re a beginner or looking to improve your composting skills\, this webinar is perfect for you. Learn about the benefits of composting\, different methods to get started\, and tips for maintaining a successful compost pile. Don’t miss out on this opportunity to become a composting pro!
URL:https://cleanla.lacounty.gov/event/webinar-introduction-to-composting-51/
CATEGORIES:Intro to Composting
ATTACH;FMTTYPE=image/jpeg:https://cleanla.lacounty.gov/wp-content/uploads/sites/15/2025/06/d3597c793a93270d150bd18d2bebbf4e.jpg
END:VEVENT
BEGIN:VEVENT
DTSTART;TZID=America/Los_Angeles:20250724T180000
DTEND;TZID=America/Los_Angeles:20250724T190000
DTSTAMP:20260423T203441
CREATED:20250605T160224Z
LAST-MODIFIED:20250722T152858Z
UID:10000503-1753380000-1753383600@cleanla.lacounty.gov
SUMMARY:Webinar:  Introduction to Composting
DESCRIPTION:Join us for a fun and informative webinar where we’ll teach you all about composting from start to finish!\n\n\nWhether you’re a beginner or looking to improve your composting skills\, this webinar is perfect for you. Our expert speakers will cover the basics\, benefits\, and best practices of composting. Get ready to turn your kitchen scraps into nutrient-rich soil for your plants! Don’t miss out on this opportunity to make a positive impact on the environment. Register now!
URL:https://cleanla.lacounty.gov/event/webinar-introduction-to-composting-50/
CATEGORIES:Intro to Composting
ATTACH;FMTTYPE=image/jpeg:https://cleanla.lacounty.gov/wp-content/uploads/sites/15/2025/06/227e11499fee29e4680b21b34252fa27.jpg
END:VEVENT
BEGIN:VEVENT
DTSTART;TZID=America/Los_Angeles:20250728T180000
DTEND;TZID=America/Los_Angeles:20250728T190000
DTSTAMP:20260423T203441
CREATED:20250605T160107Z
LAST-MODIFIED:20250728T211537Z
UID:10000498-1753725600-1753729200@cleanla.lacounty.gov
SUMMARY:Webinar:  Small-Space Gardening (Spanish)
DESCRIPTION:¿Te gustaría aprender a cultivar en espacios pequeños? ¡Únete a nuestro webinar sobre jardinería en espacios reducidos!\n\n\nWebinar: Small-Space Gardening (Spanish) \nJoin us for a fun and informative online event all about gardening in small spaces! Whether you have a tiny balcony or a small backyard\, this webinar will provide you with tips and tricks to create a beautiful garden in any space. Our expert speakers will cover topics like container gardening\, vertical gardening\, and maximizing space for your plants. Don’t miss out on this opportunity to learn how to make the most of your small space!
URL:https://cleanla.lacounty.gov/event/webinar-small-space-gardening-spanish/
CATEGORIES:Smart Gardening,Spanish Webinars
ATTACH;FMTTYPE=image/jpeg:https://cleanla.lacounty.gov/wp-content/uploads/sites/15/2025/06/46a8e455a97aff1946477a4e08b0fc0c.jpg
END:VEVENT
BEGIN:VEVENT
DTSTART;TZID=America/Los_Angeles:20250730T180000
DTEND;TZID=America/Los_Angeles:20250730T190000
DTSTAMP:20260423T203441
CREATED:20250605T160050Z
LAST-MODIFIED:20250728T211657Z
UID:10000515-1753898400-1753902000@cleanla.lacounty.gov
SUMMARY:Webinar:  Weed and Pest Management
DESCRIPTION:Join us for a virtual session on how to effectively manage weeds and pests in your garden or farm!\n\n\nJoin us for a Webinar on Weed and Pest Management! \nLearn how to tackle them head-on in our upcoming online event. Our expert speakers will share valuable tips and tricks to help you keep your plants healthy and thriving. Whether you’re a seasoned gardener or just starting out\, this webinar is perfect for anyone looking to improve their weed and pest management skills. \nDon’t miss out – sign up today!
URL:https://cleanla.lacounty.gov/event/webinar-weed-and-pest-management/
CATEGORIES:Smart Gardening
ATTACH;FMTTYPE=image/jpeg:https://cleanla.lacounty.gov/wp-content/uploads/sites/15/2025/06/e6d5d65b0f9a485d4bc43d240f5d7185.jpg
END:VEVENT
END:VCALENDAR