BEGIN:VCALENDAR
VERSION:2.0
PRODID:-//CleanLA - ECPv6.15.20//NONSGML v1.0//EN
CALSCALE:GREGORIAN
METHOD:PUBLISH
X-WR-CALNAME:CleanLA
X-ORIGINAL-URL:https://cleanla.lacounty.gov
X-WR-CALDESC:Events for CleanLA
REFRESH-INTERVAL;VALUE=DURATION:PT1H
X-Robots-Tag:noindex
X-PUBLISHED-TTL:PT1H
BEGIN:VTIMEZONE
TZID:America/Los_Angeles
BEGIN:DAYLIGHT
TZOFFSETFROM:-0800
TZOFFSETTO:-0700
TZNAME:PDT
DTSTART:20250309T100000
END:DAYLIGHT
BEGIN:STANDARD
TZOFFSETFROM:-0700
TZOFFSETTO:-0800
TZNAME:PST
DTSTART:20251102T090000
END:STANDARD
BEGIN:DAYLIGHT
TZOFFSETFROM:-0800
TZOFFSETTO:-0700
TZNAME:PDT
DTSTART:20260308T100000
END:DAYLIGHT
BEGIN:STANDARD
TZOFFSETFROM:-0700
TZOFFSETTO:-0800
TZNAME:PST
DTSTART:20261101T090000
END:STANDARD
BEGIN:DAYLIGHT
TZOFFSETFROM:-0800
TZOFFSETTO:-0700
TZNAME:PDT
DTSTART:20270314T100000
END:DAYLIGHT
BEGIN:STANDARD
TZOFFSETFROM:-0700
TZOFFSETTO:-0800
TZNAME:PST
DTSTART:20271107T090000
END:STANDARD
END:VTIMEZONE
BEGIN:VEVENT
DTSTART;TZID=America/Los_Angeles:20260307T130000
DTEND;TZID=America/Los_Angeles:20260307T143000
DTSTAMP:20260419T135023
CREATED:20251215T152923Z
LAST-MODIFIED:20260305T224302Z
UID:10000657-1772888400-1772893800@cleanla.lacounty.gov
SUMMARY:Workshop:  Composting 101 (Torrance)
DESCRIPTION:Get your hands dirty and learn how to turn kitchen scraps into black gold at our Composting 101 workshop!\n\n\nWorkshop: Composting 101\nJoin us for a fun and hands-on in-person workshop all about composting! Learn how to turn your kitchen scraps into black gold for your garden. Perfect for beginners who want to make their home greener and reduce waste. Bring your questions and get ready to dig in!
URL:https://cleanla.lacounty.gov/event/workshop-composting-101-torrance-2/
LOCATION:North Torrance Library\, 3604 Artesia Boulevard\, Torrance\, CA\, 90504\, United States
CATEGORIES:Backyard and Worm Composting
ATTACH;FMTTYPE=image/jpeg:https://cleanla.lacounty.gov/wp-content/uploads/sites/15/2025/12/5426a44983fbd43f531b0eaa560ed829.jpg
GEO:33.8726433;-118.335465
X-APPLE-STRUCTURED-LOCATION;VALUE=URI;X-ADDRESS=North Torrance Library 3604 Artesia Boulevard Torrance CA 90504 United States;X-APPLE-RADIUS=500;X-TITLE=3604 Artesia Boulevard:geo:-118.335465,33.8726433
END:VEVENT
END:VCALENDAR