BEGIN:VCALENDAR
VERSION:2.0
PRODID:-//CleanLA - ECPv6.15.20//NONSGML v1.0//EN
CALSCALE:GREGORIAN
METHOD:PUBLISH
X-ORIGINAL-URL:https://cleanla.lacounty.gov
X-WR-CALDESC:Events for CleanLA
REFRESH-INTERVAL;VALUE=DURATION:PT1H
X-Robots-Tag:noindex
X-PUBLISHED-TTL:PT1H
BEGIN:VTIMEZONE
TZID:America/Los_Angeles
BEGIN:DAYLIGHT
TZOFFSETFROM:-0800
TZOFFSETTO:-0700
TZNAME:PDT
DTSTART:20220313T100000
END:DAYLIGHT
BEGIN:STANDARD
TZOFFSETFROM:-0700
TZOFFSETTO:-0800
TZNAME:PST
DTSTART:20221106T090000
END:STANDARD
BEGIN:DAYLIGHT
TZOFFSETFROM:-0800
TZOFFSETTO:-0700
TZNAME:PDT
DTSTART:20230312T100000
END:DAYLIGHT
BEGIN:STANDARD
TZOFFSETFROM:-0700
TZOFFSETTO:-0800
TZNAME:PST
DTSTART:20231105T090000
END:STANDARD
BEGIN:DAYLIGHT
TZOFFSETFROM:-0800
TZOFFSETTO:-0700
TZNAME:PDT
DTSTART:20240310T100000
END:DAYLIGHT
BEGIN:STANDARD
TZOFFSETFROM:-0700
TZOFFSETTO:-0800
TZNAME:PST
DTSTART:20241103T090000
END:STANDARD
BEGIN:DAYLIGHT
TZOFFSETFROM:-0800
TZOFFSETTO:-0700
TZNAME:PDT
DTSTART:20250309T100000
END:DAYLIGHT
BEGIN:STANDARD
TZOFFSETFROM:-0700
TZOFFSETTO:-0800
TZNAME:PST
DTSTART:20251102T090000
END:STANDARD
END:VTIMEZONE
BEGIN:VTIMEZONE
TZID:UTC
BEGIN:STANDARD
TZOFFSETFROM:+0000
TZOFFSETTO:+0000
TZNAME:UTC
DTSTART:20230101T000000
END:STANDARD
END:VTIMEZONE
BEGIN:VEVENT
DTSTART;TZID=America/Los_Angeles:20231011T180000
DTEND;TZID=America/Los_Angeles:20231011T193000
DTSTAMP:20260424T081815
CREATED:20231011T220709Z
LAST-MODIFIED:20231024T050908Z
UID:10000005-1697047200-1697052600@cleanla.lacounty.gov
SUMMARY:Composting 101 Workshop:  South Gate
DESCRIPTION:Learn the basics of backyard composting\, worm composting\, water-wise gardening\, grass-cycling\, and edible gardening. No reservation needed.\n\n\nLearn the basics of backyard composting\, worm composting\, water-wise gardening\, grass-cycling\, and edible gardening. No reservation needed. \nCompost bins will be available for purchase at a discount after you attend the workshop. \nB﻿ring friends and neighbors!
URL:https://cleanla.lacounty.gov/event/composting-101-workshop-south-gate-2/
LOCATION:Hollydale Library\, 12000 Garfield Avenue\, South Gate\, CA\, 90280\, United States
CATEGORIES:Smart Gardening
ATTACH;FMTTYPE=image/jpeg:https://cleanla.lacounty.gov/wp-content/uploads/sites/15/2023/10/c5acd10b82cf64c5507e51f22db540ff.jpg
GEO:33.9177418;-118.1687416
X-APPLE-STRUCTURED-LOCATION;VALUE=URI;X-ADDRESS=Hollydale Library 12000 Garfield Avenue South Gate CA 90280 United States;X-APPLE-RADIUS=500;X-TITLE=12000 Garfield Avenue:geo:-118.1687416,33.9177418
END:VEVENT
BEGIN:VEVENT
DTSTART;TZID=America/Los_Angeles:20231011T180000
DTEND;TZID=America/Los_Angeles:20231011T193000
DTSTAMP:20260424T081815
CREATED:20231011T220708Z
LAST-MODIFIED:20231024T050917Z
UID:10000004-1697047200-1697052600@cleanla.lacounty.gov
SUMMARY:Composting 101 Workshop:  South Gate
DESCRIPTION:Learn the basics of backyard composting\, worm composting\, water-wise gardening\, grass-cycling\, and edible gardening. No reservation needed.\n\n\nLearn the basics of backyard composting\, worm composting\, water-wise gardening\, grass-cycling\, and edible gardening. No reservation needed. \nCompost bins will be available for purchase at a discount after you attend the workshop. \nB﻿ring friends and neighbors!
URL:https://cleanla.lacounty.gov/event/composting-101-workshop-south-gate/
LOCATION:Hollydale Library\, 12000 Garfield Avenue\, South Gate\, CA\, 90280\, United States
CATEGORIES:Smart Gardening
ATTACH;FMTTYPE=image/jpeg:https://cleanla.lacounty.gov/wp-content/uploads/sites/15/2023/10/c5acd10b82cf64c5507e51f22db540ff.jpg
GEO:33.9177418;-118.1687416
X-APPLE-STRUCTURED-LOCATION;VALUE=URI;X-ADDRESS=Hollydale Library 12000 Garfield Avenue South Gate CA 90280 United States;X-APPLE-RADIUS=500;X-TITLE=12000 Garfield Avenue:geo:-118.1687416,33.9177418
END:VEVENT
BEGIN:VEVENT
DTSTART;TZID=America/Los_Angeles:20231014T103000
DTEND;TZID=America/Los_Angeles:20231014T120000
DTSTAMP:20260424T081815
CREATED:20231011T220712Z
LAST-MODIFIED:20231024T050856Z
UID:10000006-1697279400-1697284800@cleanla.lacounty.gov
SUMMARY:Composting 101 Workshop: Rolling Hills Estate
DESCRIPTION:Learn the basics of backyard composting\, worm composting\, water-wise gardening\, grass-cycling\, and edible gardening. No reservation needed.\n\n\nLearn the basics of backyard composting\, worm composting\, water-wise gardening\, grass-cycling\, and edible gardening. No reservation needed. \n \nCompost bins will be available for purchase at a discount after you attend the workshop. \n \nB﻿ring friends and neighbors!
URL:https://cleanla.lacounty.gov/event/composting-101-workshop-rolling-hills-estate-2/
LOCATION:Peninsula Center Library\, 701 Silver Spur Road\, Rolling Hills Estates\, CA\, 90274\, United States
CATEGORIES:Smart Gardening
ATTACH;FMTTYPE=image/jpeg:https://cleanla.lacounty.gov/wp-content/uploads/sites/15/2023/10/102d7d144a9e925d179688574e422f31.jpg
GEO:33.7707747;-118.3707568
X-APPLE-STRUCTURED-LOCATION;VALUE=URI;X-ADDRESS=Peninsula Center Library 701 Silver Spur Road Rolling Hills Estates CA 90274 United States;X-APPLE-RADIUS=500;X-TITLE=701 Silver Spur Road:geo:-118.3707568,33.7707747
END:VEVENT
BEGIN:VEVENT
DTSTART;TZID=America/Los_Angeles:20231014T103000
DTEND;TZID=America/Los_Angeles:20231014T120000
DTSTAMP:20260424T081815
CREATED:20231011T220712Z
LAST-MODIFIED:20231024T050823Z
UID:10000008-1697279400-1697284800@cleanla.lacounty.gov
SUMMARY:Composting 101 Workshop: Rolling Hills Estate
DESCRIPTION:Learn the basics of backyard composting\, worm composting\, water-wise gardening\, grass-cycling\, and edible gardening. No reservation needed.\n\n\nLearn the basics of backyard composting\, worm composting\, water-wise gardening\, grass-cycling\, and edible gardening. No reservation needed. \nCompost bins will be available for purchase at a discount after you attend the workshop. \nBring friends and neighbors!
URL:https://cleanla.lacounty.gov/event/composting-101-workshop-rolling-hills-estate/
LOCATION:Peninsula Center Library\, 701 Silver Spur Road\, Rolling Hills Estates\, CA\, 90274\, United States
CATEGORIES:Smart Gardening
ATTACH;FMTTYPE=image/jpeg:https://cleanla.lacounty.gov/wp-content/uploads/sites/15/2023/10/102d7d144a9e925d179688574e422f31.jpg
GEO:33.7707747;-118.3707568
X-APPLE-STRUCTURED-LOCATION;VALUE=URI;X-ADDRESS=Peninsula Center Library 701 Silver Spur Road Rolling Hills Estates CA 90274 United States;X-APPLE-RADIUS=500;X-TITLE=701 Silver Spur Road:geo:-118.3707568,33.7707747
END:VEVENT
BEGIN:VEVENT
DTSTART;TZID=America/Los_Angeles:20231027T093000
DTEND;TZID=America/Los_Angeles:20231027T110000
DTSTAMP:20260424T081815
CREATED:20231011T220716Z
LAST-MODIFIED:20231024T050752Z
UID:10000007-1698399000-1698404400@cleanla.lacounty.gov
SUMMARY:Composting 101 Workshop: Culver City
DESCRIPTION:Learn the basics of backyard composting\, worm composting\, water-wise gardening\, grass-cycling\, and edible gardening. No reservation needed.\n\n\nLearn the basics of backyard composting\, worm composting\, water-wise gardening\, grass-cycling\, and edible gardening. No reservation needed. \n \nCompost bins will be available for purchase at a discount after you attend the workshop. \n \nB﻿ring friends and neighbors!
URL:https://cleanla.lacounty.gov/event/composting-101-workshop-culver-city-2/
LOCATION:Culver City Senior Center\, 4095 Overland Avenue\, Culver City\, CA\, 90232\, United States
CATEGORIES:Smart Gardening
ATTACH;FMTTYPE=image/jpeg:https://cleanla.lacounty.gov/wp-content/uploads/sites/15/2023/10/d5120b4c6d424fcae01b9bc846efcde9.jpg
GEO:34.0138905;-118.403255
X-APPLE-STRUCTURED-LOCATION;VALUE=URI;X-ADDRESS=Culver City Senior Center 4095 Overland Avenue Culver City CA 90232 United States;X-APPLE-RADIUS=500;X-TITLE=4095 Overland Avenue:geo:-118.403255,34.0138905
END:VEVENT
BEGIN:VEVENT
DTSTART;TZID=America/Los_Angeles:20231027T093000
DTEND;TZID=America/Los_Angeles:20231027T110000
DTSTAMP:20260424T081815
CREATED:20231011T220716Z
LAST-MODIFIED:20231027T050413Z
UID:10000009-1698399000-1698404400@cleanla.lacounty.gov
SUMMARY:Composting 101 Workshop: Culver City
DESCRIPTION:Learn the basics of backyard composting\, worm composting\, water-wise gardening\, grass-cycling\, and edible gardening. No reservation needed.\n\n\nLearn the basics of backyard composting\, worm composting\, water-wise gardening\, grass-cycling\, and edible gardening. No reservation needed. \n \nCompost bins will be available for purchase at a discount after you attend the workshop. \n \nB﻿ring friends and neighbors!
URL:https://cleanla.lacounty.gov/event/composting-101-workshop-culver-city/
LOCATION:Culver City Senior Center\, 4095 Overland Avenue\, Culver City\, CA\, 90232\, United States
CATEGORIES:Smart Gardening
ATTACH;FMTTYPE=image/jpeg:https://cleanla.lacounty.gov/wp-content/uploads/sites/15/2023/10/d5120b4c6d424fcae01b9bc846efcde9.jpg
GEO:34.0138905;-118.403255
X-APPLE-STRUCTURED-LOCATION;VALUE=URI;X-ADDRESS=Culver City Senior Center 4095 Overland Avenue Culver City CA 90232 United States;X-APPLE-RADIUS=500;X-TITLE=4095 Overland Avenue:geo:-118.403255,34.0138905
END:VEVENT
BEGIN:VEVENT
DTSTART;TZID=America/Los_Angeles:20231104T100000
DTEND;TZID=America/Los_Angeles:20231104T113000
DTSTAMP:20260424T081815
CREATED:20231011T220720Z
LAST-MODIFIED:20231024T050342Z
UID:10000010-1699092000-1699097400@cleanla.lacounty.gov
SUMMARY:Gardening 101 Workshop: Alhambra
DESCRIPTION:Learn the simple techniques of organic gardening\, drought-tolerant landscaping\, and integrated pest management. No reservation needed.\n\n\nLearn the simple techniques of organic gardening\, drought-tolerant landscaping\, and integrated pest management. No reservation needed. \nCompost bins will be available for purchase at a discount after you attend the workshop. \nB﻿ring friends and neighbors!
URL:https://cleanla.lacounty.gov/event/gardening-101-workshop-alhambra-2/
LOCATION:Alhambra Civic Center Library\, 101 South 1st Street\, Alhambra\, CA\, 91801\, United States
CATEGORIES:Smart Gardening
ATTACH;FMTTYPE=image/jpeg:https://cleanla.lacounty.gov/wp-content/uploads/sites/15/2023/10/bf99e0d61a7fd7832a7851a304a6a6f2.jpg
GEO:34.0927242;-118.1276862
X-APPLE-STRUCTURED-LOCATION;VALUE=URI;X-ADDRESS=Alhambra Civic Center Library 101 South 1st Street Alhambra CA 91801 United States;X-APPLE-RADIUS=500;X-TITLE=101 South 1st Street:geo:-118.1276862,34.0927242
END:VEVENT
BEGIN:VEVENT
DTSTART;TZID=America/Los_Angeles:20231104T100000
DTEND;TZID=America/Los_Angeles:20231104T113000
DTSTAMP:20260424T081815
CREATED:20231011T220720Z
LAST-MODIFIED:20231104T051721Z
UID:10000011-1699092000-1699097400@cleanla.lacounty.gov
SUMMARY:Gardening 101 Workshop: Alhambra
DESCRIPTION:Learn the simple techniques of organic gardening\, drought-tolerant landscaping\, and integrated pest management. No reservation needed.\n\n\nLearn the simple techniques of organic gardening\, drought-tolerant landscaping\, and integrated pest management. No reservation needed. \nCompost bins will be available for purchase at a discount after you attend the workshop. \nB﻿ring friends and neighbors!
URL:https://cleanla.lacounty.gov/event/gardening-101-workshop-alhambra/
LOCATION:Alhambra Civic Center Library\, 101 South 1st Street\, Alhambra\, CA\, 91801\, United States
CATEGORIES:Smart Gardening
ATTACH;FMTTYPE=image/jpeg:https://cleanla.lacounty.gov/wp-content/uploads/sites/15/2023/10/bf99e0d61a7fd7832a7851a304a6a6f2.jpg
GEO:34.0927242;-118.1276862
X-APPLE-STRUCTURED-LOCATION;VALUE=URI;X-ADDRESS=Alhambra Civic Center Library 101 South 1st Street Alhambra CA 91801 United States;X-APPLE-RADIUS=500;X-TITLE=101 South 1st Street:geo:-118.1276862,34.0927242
END:VEVENT
BEGIN:VEVENT
DTSTART;TZID=America/Los_Angeles:20240208T140000
DTEND;TZID=America/Los_Angeles:20240208T150000
DTSTAMP:20260424T081815
CREATED:20240826T235617Z
LAST-MODIFIED:20240826T235617Z
UID:10000017-1707400800-1707404400@cleanla.lacounty.gov
SUMMARY:Water-wise Gardening
DESCRIPTION:Create a beautiful drought-tolerant landscape.
URL:https://cleanla.lacounty.gov/event/water-wise-gardening-2/
CATEGORIES:Smart Gardening
ATTACH;FMTTYPE=image/jpeg:https://cleanla.lacounty.gov/wp-content/uploads/sites/15/2024/02/124d584f9e66521d44a9056b96d1d4e7.jpg
END:VEVENT
BEGIN:VEVENT
DTSTART;TZID=America/Los_Angeles:20240210T120000
DTEND;TZID=America/Los_Angeles:20240210T133000
DTSTAMP:20260424T081815
CREATED:20240826T235610Z
LAST-MODIFIED:20240826T235610Z
UID:10000022-1707566400-1707571800@cleanla.lacounty.gov
SUMMARY:Backyard and Worm Composting
DESCRIPTION:Learn the practice of backyard and worm composting.\n\n\nBackyard and Worm Composting (Composting 101)Learn the practice of backyard and worm composting\, plus other aspects of smart gardening: water conservation\, grasscycling\, and edible gardening. \n\n\nWe encourage you to attend a free workshop to improve your lawn/garden\, conserve water\, and reduce waste. No reservations needed. Workshops are about 1.5 hours and are held at libraries\, parks\, and other venues. Purchase compost bins at a discount after each workshop. Or join our free live webinars online.
URL:https://cleanla.lacounty.gov/event/backyard-and-worm-composting-4/
LOCATION:San Dimas Canyon Nature Center\, 1628 Sycamore Canyon Road\, San Dimas\, CA\, 91773\, United States
CATEGORIES:Smart Gardening
ATTACH;FMTTYPE=image/jpeg:https://cleanla.lacounty.gov/wp-content/uploads/sites/15/2024/02/28809c5c6e70b5cfe29a50a438ae5f0d.jpg
GEO:34.1291603;-117.7952422
X-APPLE-STRUCTURED-LOCATION;VALUE=URI;X-ADDRESS=San Dimas Canyon Nature Center 1628 Sycamore Canyon Road San Dimas CA 91773 United States;X-APPLE-RADIUS=500;X-TITLE=1628 Sycamore Canyon Road:geo:-117.7952422,34.1291603
END:VEVENT
BEGIN:VEVENT
DTSTART;TZID=America/Los_Angeles:20240219T180000
DTEND;TZID=America/Los_Angeles:20240219T190000
DTSTAMP:20260424T081815
CREATED:20240826T235631Z
LAST-MODIFIED:20240826T235631Z
UID:10000023-1708365600-1708369200@cleanla.lacounty.gov
SUMMARY:Organic Gardening
DESCRIPTION:Learn to use organic methods when gardening.
URL:https://cleanla.lacounty.gov/event/organic-gardening-2/
CATEGORIES:Smart Gardening
ATTACH;FMTTYPE=image/jpeg:https://cleanla.lacounty.gov/wp-content/uploads/sites/15/2024/02/11bf2559bfbb2b4318cfb7a70f6e40a0.jpg
END:VEVENT
BEGIN:VEVENT
DTSTART;TZID=America/Los_Angeles:20240221T180000
DTEND;TZID=America/Los_Angeles:20240221T190000
DTSTAMP:20260424T081815
CREATED:20240826T235626Z
LAST-MODIFIED:20240826T235626Z
UID:10000019-1708538400-1708542000@cleanla.lacounty.gov
SUMMARY:Small-space Gardening
DESCRIPTION:Learn to grow plants in small containers and set up small-space worm composting system.
URL:https://cleanla.lacounty.gov/event/small-space-gardening-3/
CATEGORIES:Smart Gardening
ATTACH;FMTTYPE=image/jpeg:https://cleanla.lacounty.gov/wp-content/uploads/sites/15/2024/02/e79277c958d0b04e8bb893655a85c036.jpg
END:VEVENT
BEGIN:VEVENT
DTSTART;TZID=America/Los_Angeles:20240307T140000
DTEND;TZID=America/Los_Angeles:20240307T150000
DTSTAMP:20260424T081815
CREATED:20240826T235450Z
LAST-MODIFIED:20240826T235450Z
UID:10000020-1709820000-1709823600@cleanla.lacounty.gov
SUMMARY:Small-space Gardening
DESCRIPTION:Learn to grow plants in small containers and set up small-space worm composting system.
URL:https://cleanla.lacounty.gov/event/small-space-gardening-2/
CATEGORIES:Smart Gardening
ATTACH;FMTTYPE=image/jpeg:https://cleanla.lacounty.gov/wp-content/uploads/sites/15/2024/02/e79277c958d0b04e8bb893655a85c036.jpg
END:VEVENT
BEGIN:VEVENT
DTSTART;TZID=America/Los_Angeles:20240309T100000
DTEND;TZID=America/Los_Angeles:20240309T113000
DTSTAMP:20260424T081815
CREATED:20240826T235549Z
LAST-MODIFIED:20240826T235549Z
UID:10000071-1709978400-1709983800@cleanla.lacounty.gov
SUMMARY:Backyard and Worm Composting
DESCRIPTION:Learn the practice of backyard and worm composting.\n\n\nBackyard and Worm Composting (Composting 101)Learn the practice of backyard and worm composting\, plus other aspects of smart gardening: water conservation\, grasscycling\, and edible gardening. \n\n\nWe encourage you to attend a free workshop to improve your lawn/garden\, conserve water\, and reduce waste. No reservations needed. Workshops are about 1.5 hours and are held at libraries\, parks\, and other venues. Purchase compost bins at a discount after each workshop. Or join our free live webinars online.
URL:https://cleanla.lacounty.gov/event/backyard-and-worm-composting-3/
LOCATION:Covina Public Library\, 234 North 2nd Avenue\, Covina\, CA\, 91723\, United States
CATEGORIES:Smart Gardening
ATTACH;FMTTYPE=image/jpeg:https://cleanla.lacounty.gov/wp-content/uploads/sites/15/2024/03/e19a9d0e60d68da2dbfd67212c8151f8.jpg
END:VEVENT
BEGIN:VEVENT
DTSTART;TZID=America/Los_Angeles:20240314T140000
DTEND;TZID=America/Los_Angeles:20240314T150000
DTSTAMP:20260424T081815
CREATED:20240826T235543Z
LAST-MODIFIED:20240826T235543Z
UID:10000024-1710424800-1710428400@cleanla.lacounty.gov
SUMMARY:Organic Gardening
DESCRIPTION:Learn to use organic methods when gardening.
URL:https://cleanla.lacounty.gov/event/organic-gardening/
CATEGORIES:Smart Gardening
ATTACH;FMTTYPE=image/jpeg:https://cleanla.lacounty.gov/wp-content/uploads/sites/15/2024/02/11bf2559bfbb2b4318cfb7a70f6e40a0.jpg
END:VEVENT
BEGIN:VEVENT
DTSTART;TZID=America/Los_Angeles:20240316T103000
DTEND;TZID=America/Los_Angeles:20240316T120000
DTSTAMP:20260424T081815
CREATED:20240826T235440Z
LAST-MODIFIED:20240826T235440Z
UID:10000072-1710585000-1710590400@cleanla.lacounty.gov
SUMMARY:Backyard and Worm Composting
DESCRIPTION:Learn the practice of backyard and worm composting.\n\n\n(Composting 101)Learn the practice of backyard and worm composting\, plus other aspects of smart gardening: water conservation\, grasscycling\, and edible gardening. \n\n\nWe encourage you to attend a free workshop to improve your lawn/garden\, conserve water\, and reduce waste. No reservations needed. Workshops are about 1.5 hours and are held at libraries\, parks\, and other venues. Purchase compost bins at a discount after each workshop. Or join our free live webinars online.
URL:https://cleanla.lacounty.gov/event/backyard-and-worm-composting-2/
LOCATION:La Mirada Library\, 13800 La Mirada Boulevard\, La Mirada\, CA\, 90638\, United States
CATEGORIES:Smart Gardening
ATTACH;FMTTYPE=image/jpeg:https://cleanla.lacounty.gov/wp-content/uploads/sites/15/2024/03/5a1ef7185ade4da85a9342343f69437f.jpg
GEO:33.9057501;-118.0108321
X-APPLE-STRUCTURED-LOCATION;VALUE=URI;X-ADDRESS=La Mirada Library 13800 La Mirada Boulevard La Mirada CA 90638 United States;X-APPLE-RADIUS=500;X-TITLE=13800 La Mirada Boulevard:geo:-118.0108321,33.9057501
END:VEVENT
BEGIN:VEVENT
DTSTART;TZID=America/Los_Angeles:20240325T180000
DTEND;TZID=America/Los_Angeles:20240325T190000
DTSTAMP:20260424T081815
CREATED:20240826T235431Z
LAST-MODIFIED:20240826T235431Z
UID:10000021-1711389600-1711393200@cleanla.lacounty.gov
SUMMARY:Small-space Gardening
DESCRIPTION:Learn to grow plants in small containers and set up small-space worm composting system.
URL:https://cleanla.lacounty.gov/event/small-space-gardening/
CATEGORIES:Smart Gardening
ATTACH;FMTTYPE=image/jpeg:https://cleanla.lacounty.gov/wp-content/uploads/sites/15/2024/02/e79277c958d0b04e8bb893655a85c036.jpg
END:VEVENT
BEGIN:VEVENT
DTSTART;TZID=America/Los_Angeles:20240327T180000
DTEND;TZID=America/Los_Angeles:20240327T190000
DTSTAMP:20260424T081815
CREATED:20240826T235526Z
LAST-MODIFIED:20240826T235526Z
UID:10000018-1711562400-1711566000@cleanla.lacounty.gov
SUMMARY:Water-wise Gardening
DESCRIPTION:Create a beautiful drought-tolerant landscape.
URL:https://cleanla.lacounty.gov/event/water-wise-gardening/
CATEGORIES:Smart Gardening
ATTACH;FMTTYPE=image/jpeg:https://cleanla.lacounty.gov/wp-content/uploads/sites/15/2024/02/124d584f9e66521d44a9056b96d1d4e7.jpg
END:VEVENT
BEGIN:VEVENT
DTSTART;TZID=America/Los_Angeles:20240330T100000
DTEND;TZID=America/Los_Angeles:20240330T113000
DTSTAMP:20260424T081815
CREATED:20240826T235425Z
LAST-MODIFIED:20240826T235425Z
UID:10000025-1711792800-1711798200@cleanla.lacounty.gov
SUMMARY:Backyard and Worm Composting
DESCRIPTION:Learn the practice of backyard and worm composting.\n\n\nBackyard and Worm Composting (Composting 101)Learn the practice of backyard and worm composting\, plus other aspects of smart gardening: water conservation\, grasscycling\, and edible gardening. \n\n\nWe encourage you to attend a free workshop to improve your lawn/garden\, conserve water\, and reduce waste. No reservations needed. Workshops are about 1.5 hours and are held at libraries\, parks\, and other venues. Purchase compost bins at a discount after each workshop. Or join our free live webinars online.
URL:https://cleanla.lacounty.gov/event/backyard-and-worm-composting/
LOCATION:Whittier Narrows Nature Center Associates\, 1000 Durfee Avenue\, South El Monte\, CA\, 91733\, United States
CATEGORIES:Smart Gardening
ATTACH;FMTTYPE=image/jpeg:https://cleanla.lacounty.gov/wp-content/uploads/sites/15/2024/02/ae04d2b8ba39e5e494721b1df1ff52c1.jpg
END:VEVENT
BEGIN:VEVENT
DTSTART;TZID=UTC:20240425T140000
DTEND;TZID=UTC:20240425T150000
DTSTAMP:20260424T081815
CREATED:20240420T165353Z
LAST-MODIFIED:20240424T134927Z
UID:10000078-1714053600-1714057200@cleanla.lacounty.gov
SUMMARY:Webinar: Intro to Composting
DESCRIPTION:Intro to Composting: learn about backyard and worm composting to create a rich soil amendment to nourish your garden. \nRegister here
URL:https://cleanla.lacounty.gov/event/webinar-intro-to-composting/
CATEGORIES:Smart Gardening
ATTACH;FMTTYPE=image/png:https://cleanla.lacounty.gov/wp-content/uploads/sites/15/2024/04/Untitled-design-1.png
END:VEVENT
BEGIN:VEVENT
DTSTART;TZID=UTC:20240427T100000
DTEND;TZID=UTC:20240427T113000
DTSTAMP:20260424T081815
CREATED:20240420T173448Z
LAST-MODIFIED:20240424T135717Z
UID:10000079-1714212000-1714217400@cleanla.lacounty.gov
SUMMARY:Composting 101: Backyard and Worm Composting
DESCRIPTION:Learn the basic techniques of backyard composting\, worm composting\, water-wise gardening\, grasscycling\, and edible gardening. \nLos Angeles\nSaturday\, April 27\, 2024\, 10 am – 11:30 am\nVanguard Community Garden\, 13305 S San Pedro St (flyer)
URL:https://cleanla.lacounty.gov/event/composting-101-backyard-and-worm-composting/
LOCATION:Vanguard Community Garden\, 13305 S San Pedro St.\, Los Angeles\, CA\, 90061\, United States
CATEGORIES:Smart Gardening
ATTACH;FMTTYPE=image/png:https://cleanla.lacounty.gov/wp-content/uploads/sites/15/2024/04/Untitled-design-1-1.png
GEO:33.9114931;-118.2706147
X-APPLE-STRUCTURED-LOCATION;VALUE=URI;X-ADDRESS=Vanguard Community Garden 13305 S San Pedro St. Los Angeles CA 90061 United States;X-APPLE-RADIUS=500;X-TITLE=13305 S San Pedro St.:geo:-118.2706147,33.9114931
END:VEVENT
BEGIN:VEVENT
DTSTART;TZID=UTC:20240429T180000
DTEND;TZID=UTC:20240429T190000
DTSTAMP:20260424T081815
CREATED:20240424T142042Z
LAST-MODIFIED:20240424T142042Z
UID:10000090-1714413600-1714417200@cleanla.lacounty.gov
SUMMARY:Webinar: Small-Space Gardening
DESCRIPTION:Learn to grow plants in containers and set up a small-space worm composting system. \n\n\nMonday\, April 29\, 2024\, 6 – 7 p.m. Register
URL:https://cleanla.lacounty.gov/event/webinar-small-space-gardening/
CATEGORIES:Smart Gardening
ATTACH;FMTTYPE=image/png:https://cleanla.lacounty.gov/wp-content/uploads/sites/15/2024/04/Untitled-design-1-1.png
END:VEVENT
BEGIN:VEVENT
DTSTART;TZID=UTC:20240501T180000
DTEND;TZID=UTC:20240501T190000
DTSTAMP:20260424T081815
CREATED:20240424T141836Z
LAST-MODIFIED:20240424T141836Z
UID:10000089-1714586400-1714590000@cleanla.lacounty.gov
SUMMARY:Webinar: Water-Wise Gardening
DESCRIPTION:Create a beautiful drought-tolerant landscape and learn about grasscycling to fortify your lawn. \n\n\nWednesday\, May 1\, 2024\, 6 – 7 p.m. Register
URL:https://cleanla.lacounty.gov/event/webinar-water-wise-gardening/
CATEGORIES:Smart Gardening
ATTACH;FMTTYPE=image/png:https://cleanla.lacounty.gov/wp-content/uploads/sites/15/2024/04/Untitled-design-2.png
END:VEVENT
BEGIN:VEVENT
DTSTART;TZID=UTC:20240502T120000
DTEND;TZID=UTC:20240502T130000
DTSTAMP:20260424T081815
CREATED:20240424T134032Z
LAST-MODIFIED:20240424T135823Z
UID:10000080-1714651200-1714654800@cleanla.lacounty.gov
SUMMARY:Webinar: Intro to Composting
DESCRIPTION:Intro to Composting: learn about backyard and worm composting to create a rich soil amendment to nourish your garden. \nThursday\, May 2\, 2024\, 12 – 1 p.m. Register
URL:https://cleanla.lacounty.gov/event/webinar-intro-to-composting-2/
CATEGORIES:Smart Gardening
ATTACH;FMTTYPE=image/png:https://cleanla.lacounty.gov/wp-content/uploads/sites/15/2024/04/Untitled-design-1.png
END:VEVENT
BEGIN:VEVENT
DTSTART;TZID=UTC:20240504T110000
DTEND;TZID=UTC:20240504T123000
DTSTAMP:20260424T081815
CREATED:20240424T142832Z
LAST-MODIFIED:20240424T142832Z
UID:10000094-1714820400-1714825800@cleanla.lacounty.gov
SUMMARY:Composting 101: Backyard and Worm Composting
DESCRIPTION:Learn the basic techniques of backyard composting\, worm composting\, water-wise gardening\, grasscycling\, and edible gardening. \n\n\n\n\n\n\nLos Angeles\nSaturday\, May 4\, 2024\, 11 am – 12:30 pm\nView Park Library\, 3854 W 54th St (flyer)
URL:https://cleanla.lacounty.gov/event/composting-101-backyard-and-worm-composting-2/
LOCATION:View Park Library\, 3854 West 54th Street\, Los Angeles\, CA\, 90043\, United States
CATEGORIES:Smart Gardening
ATTACH;FMTTYPE=image/png:https://cleanla.lacounty.gov/wp-content/uploads/sites/15/2024/04/Untitled-design-1-1.png
GEO:33.9927782;-118.3413137
X-APPLE-STRUCTURED-LOCATION;VALUE=URI;X-ADDRESS=View Park Library 3854 West 54th Street Los Angeles CA 90043 United States;X-APPLE-RADIUS=500;X-TITLE=3854 West 54th Street:geo:-118.3413137,33.9927782
END:VEVENT
BEGIN:VEVENT
DTSTART;TZID=UTC:20240506T180000
DTEND;TZID=UTC:20240506T190000
DTSTAMP:20260424T081815
CREATED:20240424T142220Z
LAST-MODIFIED:20240424T142220Z
UID:10000091-1715018400-1715022000@cleanla.lacounty.gov
SUMMARY:Webinar: Small-Space Gardening
DESCRIPTION:Learn to grow plants in containers and set up a small-space worm composting system. \n\n\nMonday\, May 6\, 2024\, 6 – 7 p.m. Register
URL:https://cleanla.lacounty.gov/event/webinar-small-space-gardening-2/
CATEGORIES:Smart Gardening
ATTACH;FMTTYPE=image/png:https://cleanla.lacounty.gov/wp-content/uploads/sites/15/2024/04/Untitled-design-1-1.png
END:VEVENT
BEGIN:VEVENT
DTSTART;TZID=UTC:20240508T180000
DTEND;TZID=UTC:20240508T190000
DTSTAMP:20260424T081815
CREATED:20240424T233126Z
LAST-MODIFIED:20240502T174927Z
UID:10000096-1715191200-1715194800@cleanla.lacounty.gov
SUMMARY:Seminario web: Jardinería Inteligente: jardinería con poca agua
DESCRIPTION:Jardinería Inteligente: jardinería con poca agua \nWednesday\, May 8\, 6-7 p.m.\, Waterwise (Spanish Only) Register
URL:https://cleanla.lacounty.gov/event/webinar-jardineria-inteligente-jardineria-con-poca-agua/
CATEGORIES:Smart Gardening
ATTACH;FMTTYPE=image/png:https://cleanla.lacounty.gov/wp-content/uploads/sites/15/2024/04/Untitled-design-2.png
END:VEVENT
BEGIN:VEVENT
DTSTART;TZID=UTC:20240509T140000
DTEND;TZID=UTC:20240509T150000
DTSTAMP:20260424T081815
CREATED:20240424T135326Z
LAST-MODIFIED:20240424T135903Z
UID:10000081-1715263200-1715266800@cleanla.lacounty.gov
SUMMARY:Webinar: Intro to Composting
DESCRIPTION:Intro to Composting: learn about backyard and worm composting to create a rich soil amendment to nourish your garden. \nThursday\, May 9\, 2024\, 2 – 3 p.m.. Register \n 
URL:https://cleanla.lacounty.gov/event/webinar-intro-to-composting-3/
CATEGORIES:Smart Gardening
ATTACH;FMTTYPE=image/png:https://cleanla.lacounty.gov/wp-content/uploads/sites/15/2024/04/Untitled-design-1.png
END:VEVENT
BEGIN:VEVENT
DTSTART;TZID=UTC:20240513T180000
DTEND;TZID=UTC:20240513T180000
DTSTAMP:20260424T081815
CREATED:20240424T135518Z
LAST-MODIFIED:20240424T135518Z
UID:10000082-1715623200-1715623200@cleanla.lacounty.gov
SUMMARY:Webinar: Intro to Composting
DESCRIPTION:Intro to Composting: learn about backyard and worm composting to create a rich soil amendment to nourish your garden. \nMonday\, May 13\, 2024\,  6 – 7 p.m. Register
URL:https://cleanla.lacounty.gov/event/webinar-intro-to-composting-4/
CATEGORIES:Smart Gardening
ATTACH;FMTTYPE=image/png:https://cleanla.lacounty.gov/wp-content/uploads/sites/15/2024/04/Untitled-design-1.png
END:VEVENT
BEGIN:VEVENT
DTSTART;TZID=UTC:20240515T180000
DTEND;TZID=UTC:20240515T190000
DTSTAMP:20260424T081815
CREATED:20240424T140201Z
LAST-MODIFIED:20240424T140201Z
UID:10000083-1715796000-1715799600@cleanla.lacounty.gov
SUMMARY:Webinar: Intro to Composting
DESCRIPTION:Intro to Composting: learn about backyard and worm composting to create a rich soil amendment to nourish your garden. \nWednesday\, May 15\, 2024\, 6 – 7 p.m. Register
URL:https://cleanla.lacounty.gov/event/webinar-intro-to-composting-5/
CATEGORIES:Smart Gardening
ATTACH;FMTTYPE=image/png:https://cleanla.lacounty.gov/wp-content/uploads/sites/15/2024/04/Untitled-design-1.png
END:VEVENT
END:VCALENDAR