BEGIN:VCALENDAR
VERSION:2.0
PRODID:-//CleanLA - ECPv6.15.20//NONSGML v1.0//EN
CALSCALE:GREGORIAN
METHOD:PUBLISH
X-WR-CALNAME:CleanLA
X-ORIGINAL-URL:https://cleanla.lacounty.gov
X-WR-CALDESC:Events for CleanLA
REFRESH-INTERVAL;VALUE=DURATION:PT1H
X-Robots-Tag:noindex
X-PUBLISHED-TTL:PT1H
BEGIN:VTIMEZONE
TZID:America/Los_Angeles
BEGIN:DAYLIGHT
TZOFFSETFROM:-0800
TZOFFSETTO:-0700
TZNAME:PDT
DTSTART:20250309T100000
END:DAYLIGHT
BEGIN:STANDARD
TZOFFSETFROM:-0700
TZOFFSETTO:-0800
TZNAME:PST
DTSTART:20251102T090000
END:STANDARD
BEGIN:DAYLIGHT
TZOFFSETFROM:-0800
TZOFFSETTO:-0700
TZNAME:PDT
DTSTART:20260308T100000
END:DAYLIGHT
BEGIN:STANDARD
TZOFFSETFROM:-0700
TZOFFSETTO:-0800
TZNAME:PST
DTSTART:20261101T090000
END:STANDARD
BEGIN:DAYLIGHT
TZOFFSETFROM:-0800
TZOFFSETTO:-0700
TZNAME:PDT
DTSTART:20270314T100000
END:DAYLIGHT
BEGIN:STANDARD
TZOFFSETFROM:-0700
TZOFFSETTO:-0800
TZNAME:PST
DTSTART:20271107T090000
END:STANDARD
END:VTIMEZONE
BEGIN:VEVENT
DTSTART;TZID=America/Los_Angeles:20260427T170000
DTEND;TZID=America/Los_Angeles:20260427T180000
DTSTAMP:20260425T193545
CREATED:20260224T223045Z
LAST-MODIFIED:20260422T200001Z
UID:10000722-1777309200-1777312800@cleanla.lacounty.gov
SUMMARY:Webinar:  Introduction to Composting (Spanish)
DESCRIPTION:Únete al webinar para aprender todo sobre compostaje y cómo cuidar tu jardín desde casa. ¡Gratis y online!\n\n\n¡Únete al Webinar: Introducción al Compostaje en Español!\n¿Quieres aprender a reducir residuos y crear abono natural desde casa? Este evento online es perfecto para ti. Descubre los secretos del compostaje de manera sencilla y práctica\, ideal para principiantes. Trae tus preguntas y ganas de aprender. ¡No te lo pierdas!
URL:https://cleanla.lacounty.gov/event/webinar-introduction-to-composting-spanish-9/
CATEGORIES:Smart Gardening,Spanish Webinars
ATTACH;FMTTYPE=image/jpeg:https://cleanla.lacounty.gov/wp-content/uploads/sites/15/2026/02/a4c43cbda3888e77b81b6d226a102935.jpg
END:VEVENT
BEGIN:VEVENT
DTSTART;TZID=America/Los_Angeles:20260514T170000
DTEND;TZID=America/Los_Angeles:20260514T180000
DTSTAMP:20260425T193545
CREATED:20260413T230151Z
LAST-MODIFIED:20260422T200002Z
UID:10000743-1778778000-1778781600@cleanla.lacounty.gov
SUMMARY:Webinar: Introduction to Composting (Spanish)
DESCRIPTION:Aprende a compostar en casa y ayuda al planeta con este webinar online súper fácil y divertido. ¡Únete ya!\n\n\n¡Únete al Webinar: Introducción al Compostaje en Español!\n¿Quieres aprender a reducir tus residuos y crear un abono natural? Este evento online es perfecto para ti. Te enseñaremos todo lo básico sobre compostaje\, trucos fáciles y cómo empezar desde casa. ¡No importa si no tienes experiencia\, solo trae ganas de aprender! \nConéctate desde donde estés y descubre cómo hacer tu propia tierra saludable para plantas. ¡Te esperamos!
URL:https://cleanla.lacounty.gov/event/webinar-introduction-to-composting-spanish-10/
CATEGORIES:Smart Gardening,Spanish Webinars
ATTACH;FMTTYPE=image/jpeg:https://cleanla.lacounty.gov/wp-content/uploads/sites/15/2026/03/d02f5047f7ae06ed3482b698b2e0bff0.jpg
END:VEVENT
BEGIN:VEVENT
DTSTART;TZID=America/Los_Angeles:20260601T180000
DTEND;TZID=America/Los_Angeles:20260601T190000
DTSTAMP:20260425T193545
CREATED:20260413T230201Z
LAST-MODIFIED:20260422T200002Z
UID:10000764-1780336800-1780340400@cleanla.lacounty.gov
SUMMARY:Webinar: Water-Wise Gardening (Spanish)
DESCRIPTION:Únete al webinar y descubre cómo cuidar tu jardín ahorrando agua de forma fácil y práctica.\n\n\n¿Quieres aprender a cuidar tu jardín sin desperdiciar agua?\nNo te pierdas nuestro Webinar: Water-Wise Gardening (Spanish)\, un evento online súper práctico y divertido. Te daremos tips fáciles para que tu jardín luzca increíble mientras ahorras agua. \n¡Perfecto para todos los que quieren ser eco-amigables y tener plantas felices!
URL:https://cleanla.lacounty.gov/event/webinar-water-wise-gardening-spanish-3/
CATEGORIES:Smart Gardening,Spanish Webinars
ATTACH;FMTTYPE=image/jpeg:https://cleanla.lacounty.gov/wp-content/uploads/sites/15/2026/03/0e6f083f1d07de55d210f081f1f73ba7.jpg
END:VEVENT
END:VCALENDAR