BEGIN:VCALENDAR
VERSION:2.0
PRODID:-//CleanLA - ECPv6.15.20//NONSGML v1.0//EN
CALSCALE:GREGORIAN
METHOD:PUBLISH
X-ORIGINAL-URL:https://cleanla.lacounty.gov
X-WR-CALDESC:Events for CleanLA
REFRESH-INTERVAL;VALUE=DURATION:PT1H
X-Robots-Tag:noindex
X-PUBLISHED-TTL:PT1H
BEGIN:VTIMEZONE
TZID:America/Los_Angeles
BEGIN:DAYLIGHT
TZOFFSETFROM:-0800
TZOFFSETTO:-0700
TZNAME:PDT
DTSTART:20250309T100000
END:DAYLIGHT
BEGIN:STANDARD
TZOFFSETFROM:-0700
TZOFFSETTO:-0800
TZNAME:PST
DTSTART:20251102T090000
END:STANDARD
BEGIN:DAYLIGHT
TZOFFSETFROM:-0800
TZOFFSETTO:-0700
TZNAME:PDT
DTSTART:20260308T100000
END:DAYLIGHT
BEGIN:STANDARD
TZOFFSETFROM:-0700
TZOFFSETTO:-0800
TZNAME:PST
DTSTART:20261101T090000
END:STANDARD
BEGIN:DAYLIGHT
TZOFFSETFROM:-0800
TZOFFSETTO:-0700
TZNAME:PDT
DTSTART:20270314T100000
END:DAYLIGHT
BEGIN:STANDARD
TZOFFSETFROM:-0700
TZOFFSETTO:-0800
TZNAME:PST
DTSTART:20271107T090000
END:STANDARD
END:VTIMEZONE
BEGIN:VEVENT
DTSTART;TZID=America/Los_Angeles:20260420T120000
DTEND;TZID=America/Los_Angeles:20260420T130000
DTSTAMP:20260419T154232
CREATED:20260224T223832Z
LAST-MODIFIED:20260413T225917Z
UID:10000729-1776686400-1776690000@cleanla.lacounty.gov
SUMMARY:Webinar:  Introduction to Composting
DESCRIPTION:Join our online webinar to learn easy\, fun ways to start composting at home and help the planet!\n\n\nWebinar: Introduction to Composting\nReady to turn your kitchen scraps into garden gold? Join our fun and easy online webinar all about composting basics. You’ll learn simple tips to reduce waste and create nutrient-rich compost right at home. Perfect for beginners! \nDon’t miss out on this chance to get green and go sustainable from your own couch.
URL:https://cleanla.lacounty.gov/event/webinar-introduction-to-composting-96/
CATEGORIES:Intro to Composting
ATTACH;FMTTYPE=image/jpeg:https://cleanla.lacounty.gov/wp-content/uploads/sites/15/2026/02/00dd16fdb0498cd4eb42ec7c7aa13931.jpg
END:VEVENT
BEGIN:VEVENT
DTSTART;TZID=America/Los_Angeles:20260423T180000
DTEND;TZID=America/Los_Angeles:20260423T190000
DTSTAMP:20260419T154232
CREATED:20260224T223824Z
LAST-MODIFIED:20260413T225917Z
UID:10000730-1776967200-1776970800@cleanla.lacounty.gov
SUMMARY:Webinar:  Introduction to Composting
DESCRIPTION:Join our online webinar to learn easy and fun ways to start composting at home!\n\n\nJoin Our Webinar: Introduction to Composting!\nReady to turn your kitchen scraps into garden gold? This online webinar is perfect for beginners eager to learn the basics of composting. We’ll cover easy tips and tricks to get your compost pile started and keep it happy. Whether you have a yard or just a balcony\, come discover how simple and fun composting can be! Grab your spot and let’s get composting!
URL:https://cleanla.lacounty.gov/event/webinar-introduction-to-composting-95/
CATEGORIES:Intro to Composting
ATTACH;FMTTYPE=image/jpeg:https://cleanla.lacounty.gov/wp-content/uploads/sites/15/2026/02/e17547fabf4db062014a3c11e4780c91.jpg
END:VEVENT
BEGIN:VEVENT
DTSTART;TZID=America/Los_Angeles:20260429T150000
DTEND;TZID=America/Los_Angeles:20260429T160000
DTSTAMP:20260419T154232
CREATED:20260224T223816Z
LAST-MODIFIED:20260413T225918Z
UID:10000731-1777474800-1777478400@cleanla.lacounty.gov
SUMMARY:Webinar: Introduction to Composting
DESCRIPTION:Join our online webinar to learn easy composting tips and turn your scraps into garden gold!\n\n\nJoin Our Webinar: Introduction to Composting!\nReady to turn your kitchen scraps into garden gold? This online session will get you started on composting basics with easy tips and fun ideas. Whether you’re a green thumb or just curious\, you’ll learn how to reduce waste and boost your plants naturally. \nGrab a spot and let’s make composting simple and enjoyable together!
URL:https://cleanla.lacounty.gov/event/webinar-introduction-to-composting-94/
CATEGORIES:Intro to Composting
ATTACH;FMTTYPE=image/jpeg:https://cleanla.lacounty.gov/wp-content/uploads/sites/15/2026/02/e80f6f761d5c536f2ef08da1014ec95a.jpg
END:VEVENT
BEGIN:VEVENT
DTSTART;TZID=America/Los_Angeles:20260430T160000
DTEND;TZID=America/Los_Angeles:20260430T170000
DTSTAMP:20260419T154232
CREATED:20260224T223809Z
LAST-MODIFIED:20260413T225918Z
UID:10000732-1777564800-1777568400@cleanla.lacounty.gov
SUMMARY:Webinar: Introduction to Composting
DESCRIPTION:Join our online webinar to learn easy composting tips and turn kitchen scraps into garden gold!\n\n\nJoin Our Webinar: Introduction to Composting!\nWant to turn your kitchen scraps into garden gold?  This fun and easy online webinar will teach you the basics of composting. Perfect for beginners eager to make a difference and reduce waste. Grab your spot and start your composting journey from home!
URL:https://cleanla.lacounty.gov/event/webinar-introduction-to-composting-93/
CATEGORIES:Intro to Composting
ATTACH;FMTTYPE=image/jpeg:https://cleanla.lacounty.gov/wp-content/uploads/sites/15/2026/02/fccfc2d339136c9025e61f6a58304ac3.jpg
END:VEVENT
BEGIN:VEVENT
DTSTART;TZID=America/Los_Angeles:20260504T160000
DTEND;TZID=America/Los_Angeles:20260504T170000
DTSTAMP:20260419T154232
CREATED:20260413T230444Z
LAST-MODIFIED:20260413T230444Z
UID:10000752-1777910400-1777914000@cleanla.lacounty.gov
SUMMARY:Webinar: Introduction to Composting
DESCRIPTION:Join us online to learn about composting while keeping your garden green and thriving!\n\n\nThis fun and easygoing online event will teach you a smart gardening tips. Whether you’re a newbie or a green thumb\, come learn how to keep your plants happy and healthy while being kind to the planet. Grab your spot\, cozy up with your favorite drink\, and get ready for some awesome gardening hacks!
URL:https://cleanla.lacounty.gov/event/webinar-introduction-to-composting-116/
CATEGORIES:Intro to Composting
ATTACH;FMTTYPE=image/jpeg:https://cleanla.lacounty.gov/wp-content/uploads/sites/15/2026/03/9aa22627a924b6e5096e244886ae54ef.jpg
END:VEVENT
BEGIN:VEVENT
DTSTART;TZID=America/Los_Angeles:20260507T180000
DTEND;TZID=America/Los_Angeles:20260507T190000
DTSTAMP:20260419T154232
CREATED:20260413T230438Z
LAST-MODIFIED:20260413T230438Z
UID:10000753-1778176800-1778180400@cleanla.lacounty.gov
SUMMARY:Webinar: Introduction to Composting
DESCRIPTION:Join our online webinar to learn easy tips for starting composting at home and helping the planet!\n\n\nJoin Our Webinar: Introduction to Composting!\nHey there! Ready to turn your kitchen scraps into garden gold? Our fun and easy online webinar will show you how to start composting from scratch. Whether you’re a total newbie or just curious\, we’ve got tips and tricks to help your plants thrive. Grab your favorite drink\, get comfy\, and let’s make composting a breeze together. See you online!
URL:https://cleanla.lacounty.gov/event/webinar-introduction-to-composting-115/
CATEGORIES:Intro to Composting
ATTACH;FMTTYPE=image/jpeg:https://cleanla.lacounty.gov/wp-content/uploads/sites/15/2026/03/d3c705b0c25ac5f386972e04cb4ce13d.jpg
END:VEVENT
BEGIN:VEVENT
DTSTART;TZID=America/Los_Angeles:20260511T180000
DTEND;TZID=America/Los_Angeles:20260511T190000
DTSTAMP:20260419T154232
CREATED:20260413T230430Z
LAST-MODIFIED:20260413T230430Z
UID:10000754-1778522400-1778526000@cleanla.lacounty.gov
SUMMARY:Webinar: Introduction to Composting
DESCRIPTION:Join our online webinar to learn easy\, eco-friendly composting tips and start turning waste into garden gold!\n\n\nWebinar: Introduction to Composting\nReady to turn your kitchen scraps into black gold? Join our fun and easy online webinar where we’ll dive into the basics of composting. Learn how to reduce waste\, nourish your garden\, and help the planet—all from the comfort of your home. Whether you’re a newbie or just curious\, this session is perfect for everyone. Grab your curiosity and let’s get composting!
URL:https://cleanla.lacounty.gov/event/webinar-introduction-to-composting-114/
CATEGORIES:Intro to Composting
ATTACH;FMTTYPE=image/jpeg:https://cleanla.lacounty.gov/wp-content/uploads/sites/15/2026/03/1e0e4e618a193dbc8b815684ae9531cb.jpg
END:VEVENT
BEGIN:VEVENT
DTSTART;TZID=America/Los_Angeles:20260518T160000
DTEND;TZID=America/Los_Angeles:20260518T170000
DTSTAMP:20260419T154232
CREATED:20260413T230423Z
LAST-MODIFIED:20260413T230423Z
UID:10000755-1779120000-1779123600@cleanla.lacounty.gov
SUMMARY:Webinar: Introduction to Composting
DESCRIPTION:Join our online chat to learn easy tips and tricks for starting your own compost at home!\n\n\nWebinar: Introduction to Composting\nJoin us online for a fun and easy-to-follow webinar where you’ll learn all about composting basics. Perfect for beginners who want to turn kitchen scraps into garden gold! We’ll cover simple tips\, tricks\, and how you can start your own compost right at home. \nDon’t miss out on this green journey—grab a seat from the comfort of your couch!
URL:https://cleanla.lacounty.gov/event/webinar-introduction-to-composting-113/
CATEGORIES:Intro to Composting
ATTACH;FMTTYPE=image/jpeg:https://cleanla.lacounty.gov/wp-content/uploads/sites/15/2026/03/ecdeaee00e312c05373bfba03972ab6a.jpg
END:VEVENT
BEGIN:VEVENT
DTSTART;TZID=America/Los_Angeles:20260526T170000
DTEND;TZID=America/Los_Angeles:20260526T180000
DTSTAMP:20260419T154232
CREATED:20260413T230416Z
LAST-MODIFIED:20260413T230416Z
UID:10000756-1779814800-1779818400@cleanla.lacounty.gov
SUMMARY:Webinar: Introduction to Composting
DESCRIPTION:Join our fun online webinar and learn the basics of composting to help your garden and the planet!\n\n\nWebinar: Introduction to Composting\nJoin us for a fun and easy online session all about composting! Learn how to turn your kitchen scraps and yard waste into nutrient-rich soil right from your home. Perfect for beginners wanting to make a positive impact on the environment. Grab a cup of coffee\, get comfy\, and let’s dive into the world of eco-friendly gardening together. Don’t miss out on this chance to green your routine and ask all your composting questions live!
URL:https://cleanla.lacounty.gov/event/webinar-introduction-to-composting-112/
CATEGORIES:Intro to Composting
ATTACH;FMTTYPE=image/jpeg:https://cleanla.lacounty.gov/wp-content/uploads/sites/15/2026/03/e6e52bc06c61fea104bd9a36a916ce2c.jpg
END:VEVENT
BEGIN:VEVENT
DTSTART;TZID=America/Los_Angeles:20260527T170000
DTEND;TZID=America/Los_Angeles:20260527T180000
DTSTAMP:20260419T154232
CREATED:20260413T230409Z
LAST-MODIFIED:20260413T230409Z
UID:10000757-1779901200-1779904800@cleanla.lacounty.gov
SUMMARY:Webinar: Introduction to Composting
DESCRIPTION:Join our online webinar and learn how to turn your kitchen scraps into nutrient-rich compost easily!\n\n\nWebinar: Introduction to Composting\nJoin us online for a fun and easy webinar all about composting! Whether you’re a newbie or just curious\, we’ll cover the basics to help you turn kitchen scraps into garden gold. Get ready to learn tips\, tricks\, and the science behind composting that you can start using right away. Bring your questions and enthusiasm – this is your chance to make your waste work for you!
URL:https://cleanla.lacounty.gov/event/webinar-introduction-to-composting-111/
CATEGORIES:Intro to Composting
ATTACH;FMTTYPE=image/jpeg:https://cleanla.lacounty.gov/wp-content/uploads/sites/15/2026/03/417401c8747dd06b6c97cb398f03b86e.jpg
END:VEVENT
BEGIN:VEVENT
DTSTART;TZID=America/Los_Angeles:20260528T120000
DTEND;TZID=America/Los_Angeles:20260528T130000
DTSTAMP:20260419T154232
CREATED:20260413T230402Z
LAST-MODIFIED:20260413T230402Z
UID:10000758-1779969600-1779973200@cleanla.lacounty.gov
SUMMARY:Webinar: Introduction to Composting
DESCRIPTION:Join our fun online webinar to learn easy composting tips and turn scraps into garden gold!\n\n\nWebinar: Introduction to Composting\nHey there! Interested in turning your kitchen scraps into garden gold? Join our online webinar and get the lowdown on the basics of composting. It’s super easy\, fun\, and great for the planet. Perfect for beginners wanting to make a difference from home. Come learn\, ask questions\, and start your composting journey with us!
URL:https://cleanla.lacounty.gov/event/webinar-introduction-to-composting-110/
CATEGORIES:Intro to Composting
ATTACH;FMTTYPE=image/jpeg:https://cleanla.lacounty.gov/wp-content/uploads/sites/15/2026/03/c557c4c6527c908a275bccd5110e916f.jpg
END:VEVENT
BEGIN:VEVENT
DTSTART;TZID=America/Los_Angeles:20260603T160000
DTEND;TZID=America/Los_Angeles:20260603T170000
DTSTAMP:20260419T154232
CREATED:20260413T230357Z
LAST-MODIFIED:20260413T230357Z
UID:10000765-1780502400-1780506000@cleanla.lacounty.gov
SUMMARY:Webinar: Introduction to Composting
DESCRIPTION:Join our online webinar to learn easy and fun composting tips for a greener home!\n\n\nJoin Our Webinar: Introduction to Composting!\nHey there! Want to learn how to turn your kitchen scraps into rich soil? This online webinar is perfect for beginners curious about composting. We’ll cover the basics\, share tips\, and answer your questions live. Grab a cup of coffee and join us from the comfort of your home!
URL:https://cleanla.lacounty.gov/event/webinar-introduction-to-composting-109/
CATEGORIES:Intro to Composting
ATTACH;FMTTYPE=image/jpeg:https://cleanla.lacounty.gov/wp-content/uploads/sites/15/2026/03/e9ed47a652bb806512101d203770c821.jpg
END:VEVENT
BEGIN:VEVENT
DTSTART;TZID=America/Los_Angeles:20260604T120000
DTEND;TZID=America/Los_Angeles:20260604T130000
DTSTAMP:20260419T154232
CREATED:20260413T230350Z
LAST-MODIFIED:20260413T230350Z
UID:10000766-1780574400-1780578000@cleanla.lacounty.gov
SUMMARY:Webinar: Introduction to Composting
DESCRIPTION:Join us online to learn the basics of composting and start turning your scraps into garden gold!\n\n\nWebinar: Introduction to Composting\nJoin us online for a fun and easygoing intro to composting! Whether you’re a garden newbie or just curious\, we’ll show you how to turn your scraps into black gold. Learn cool tips\, tricks\, and the basics to start composting at home. No special gear needed—just your enthusiasm! Don’t miss out on making your waste work for you. See you there!
URL:https://cleanla.lacounty.gov/event/webinar-introduction-to-composting-108/
CATEGORIES:Intro to Composting
ATTACH;FMTTYPE=image/jpeg:https://cleanla.lacounty.gov/wp-content/uploads/sites/15/2026/03/9fc9e1b4efef6fc27c4dd8339dc90990.jpg
END:VEVENT
BEGIN:VEVENT
DTSTART;TZID=America/Los_Angeles:20260608T160000
DTEND;TZID=America/Los_Angeles:20260608T170000
DTSTAMP:20260419T154232
CREATED:20260413T230343Z
LAST-MODIFIED:20260413T230343Z
UID:10000767-1780934400-1780938000@cleanla.lacounty.gov
SUMMARY:Webinar: Introduction to Composting
DESCRIPTION:Join our fun online chat to learn easy composting tips and turn your scraps into garden gold!\n\n\nJoin Our Webinar: Introduction to Composting!\nReady to turn your kitchen scraps into garden gold? This online webinar is perfect for anyone curious about composting basics and how to get started at home. We’ll cover simple tips\, common mistakes\, and how composting can make a real difference for the planet. Grab your favorite drink\, get comfy\, and let’s dive into the world of eco-friendly living together. See you online!
URL:https://cleanla.lacounty.gov/event/webinar-introduction-to-composting-107/
CATEGORIES:Intro to Composting
ATTACH;FMTTYPE=image/jpeg:https://cleanla.lacounty.gov/wp-content/uploads/sites/15/2026/03/7d07ce416417ee27966dad369897352e.jpg
END:VEVENT
BEGIN:VEVENT
DTSTART;TZID=America/Los_Angeles:20260610T150000
DTEND;TZID=America/Los_Angeles:20260610T160000
DTSTAMP:20260419T154232
CREATED:20260413T230336Z
LAST-MODIFIED:20260413T230336Z
UID:10000768-1781103600-1781107200@cleanla.lacounty.gov
SUMMARY:Webinar: Introduction to Composting
DESCRIPTION:Join our fun online webinar and learn the basics of composting to green up your life!\n\n\nJoin Our Webinar: Introduction to Composting!\nReady to turn your kitchen scraps into garden gold? This online session will walk you through the basics of composting\, sharing easy tips and tricks that anyone can follow. Whether you’re a garden guru or a newbie\, you’ll learn how to create nutrient-rich compost right at home. Don’t miss out on this fun and eco-friendly journey!
URL:https://cleanla.lacounty.gov/event/webinar-introduction-to-composting-106/
CATEGORIES:Intro to Composting
ATTACH;FMTTYPE=image/jpeg:https://cleanla.lacounty.gov/wp-content/uploads/sites/15/2026/03/a15b344700b6ec402b678d6362561e2b.jpg
END:VEVENT
BEGIN:VEVENT
DTSTART;TZID=America/Los_Angeles:20260617T160000
DTEND;TZID=America/Los_Angeles:20260617T170000
DTSTAMP:20260419T154232
CREATED:20260413T230329Z
LAST-MODIFIED:20260413T230329Z
UID:10000769-1781712000-1781715600@cleanla.lacounty.gov
SUMMARY:Webinar: Introduction to Composting
DESCRIPTION:Join our online webinar to learn easy and fun ways to start composting at home!\n\n\nWebinar: Introduction to Composting\nJoin us online for a fun and easy-to-follow webinar all about composting! Whether you’re a newbie or just curious\, we’ll cover the basics to help you turn kitchen scraps into garden gold. Get ready to learn cool tips and tricks to make your own compost at home. No stress\, just good vibes and green thumbs!
URL:https://cleanla.lacounty.gov/event/webinar-introduction-to-composting-105/
CATEGORIES:Intro to Composting
ATTACH;FMTTYPE=image/jpeg:https://cleanla.lacounty.gov/wp-content/uploads/sites/15/2026/03/f99c1625989ed52187698165e132c29d.jpg
END:VEVENT
BEGIN:VEVENT
DTSTART;TZID=America/Los_Angeles:20260618T150000
DTEND;TZID=America/Los_Angeles:20260618T160000
DTSTAMP:20260419T154232
CREATED:20260413T230322Z
LAST-MODIFIED:20260413T230322Z
UID:10000770-1781794800-1781798400@cleanla.lacounty.gov
SUMMARY:Webinar: Introduction to Composting
DESCRIPTION:Join our online webinar to learn easy tips and tricks for starting your own compost at home!\n\n\nJoin Our Webinar: Introduction to Composting!\nReady to turn your kitchen scraps into garden gold? This fun\, online session will show you the basics of composting and how easy it is to start at home. Perfect for beginners curious about reducing waste and growing healthy plants. Grab a comfy seat\, your questions\, and get ready to dig into all things compost!
URL:https://cleanla.lacounty.gov/event/webinar-introduction-to-composting-104/
CATEGORIES:Intro to Composting
ATTACH;FMTTYPE=image/jpeg:https://cleanla.lacounty.gov/wp-content/uploads/sites/15/2026/03/036ec3bcb72ea393b4fed640f3eeb44a.jpg
END:VEVENT
BEGIN:VEVENT
DTSTART;TZID=America/Los_Angeles:20260625T120000
DTEND;TZID=America/Los_Angeles:20260625T130000
DTSTAMP:20260419T154232
CREATED:20260413T230315Z
LAST-MODIFIED:20260413T230315Z
UID:10000771-1782388800-1782392400@cleanla.lacounty.gov
SUMMARY:Webinar: Introduction to Composting
DESCRIPTION:Join us online for a fun intro to composting and learn how to turn waste into garden gold!\n\n\nJoin Our Webinar: Introduction to Composting!\nReady to turn kitchen scraps into garden gold? This online session is perfect for beginners who want to learn the basics of composting and make a positive impact on the environment. We’ll cover simple tips\, tricks\, and fun facts to get you started at home. Grab your favorite drink\, get comfy\, and join us for a chill\, informative hour that’ll have your green thumb itching!
URL:https://cleanla.lacounty.gov/event/webinar-introduction-to-composting-103/
CATEGORIES:Intro to Composting
ATTACH;FMTTYPE=image/jpeg:https://cleanla.lacounty.gov/wp-content/uploads/sites/15/2026/03/7e98dd33db10bdf943227ee82fe51ac3.jpg
END:VEVENT
BEGIN:VEVENT
DTSTART;TZID=America/Los_Angeles:20260629T180000
DTEND;TZID=America/Los_Angeles:20260629T190000
DTSTAMP:20260419T154232
CREATED:20260413T230307Z
LAST-MODIFIED:20260413T230307Z
UID:10000772-1782756000-1782759600@cleanla.lacounty.gov
SUMMARY:Webinar: Introduction to Composting
DESCRIPTION:Join our online webinar to learn easy tips on composting and start turning waste into garden gold!\n\n\nJoin Our Webinar: Introduction to Composting!\nWant to learn how to turn your kitchen scraps into garden gold? This online event will teach you the basics of composting in a fun and easy way. Whether you’re a beginner or just curious\, come hang out with us and get your composting questions answered. Grab a comfy spot at home and let’s get green together!
URL:https://cleanla.lacounty.gov/event/webinar-introduction-to-composting-102/
CATEGORIES:Intro to Composting
ATTACH;FMTTYPE=image/jpeg:https://cleanla.lacounty.gov/wp-content/uploads/sites/15/2026/03/a6a40a377a79bfc205a03543e226ef6d.jpg
END:VEVENT
END:VCALENDAR