BEGIN:VCALENDAR
VERSION:2.0
PRODID:-//CleanLA - ECPv6.15.20//NONSGML v1.0//EN
CALSCALE:GREGORIAN
METHOD:PUBLISH
X-ORIGINAL-URL:https://cleanla.lacounty.gov
X-WR-CALDESC:Events for CleanLA
REFRESH-INTERVAL;VALUE=DURATION:PT1H
X-Robots-Tag:noindex
X-PUBLISHED-TTL:PT1H
BEGIN:VTIMEZONE
TZID:America/Los_Angeles
BEGIN:DAYLIGHT
TZOFFSETFROM:-0800
TZOFFSETTO:-0700
TZNAME:PDT
DTSTART:20250309T100000
END:DAYLIGHT
BEGIN:STANDARD
TZOFFSETFROM:-0700
TZOFFSETTO:-0800
TZNAME:PST
DTSTART:20251102T090000
END:STANDARD
BEGIN:DAYLIGHT
TZOFFSETFROM:-0800
TZOFFSETTO:-0700
TZNAME:PDT
DTSTART:20260308T100000
END:DAYLIGHT
BEGIN:STANDARD
TZOFFSETFROM:-0700
TZOFFSETTO:-0800
TZNAME:PST
DTSTART:20261101T090000
END:STANDARD
BEGIN:DAYLIGHT
TZOFFSETFROM:-0800
TZOFFSETTO:-0700
TZNAME:PDT
DTSTART:20270314T100000
END:DAYLIGHT
BEGIN:STANDARD
TZOFFSETFROM:-0700
TZOFFSETTO:-0800
TZNAME:PST
DTSTART:20271107T090000
END:STANDARD
END:VTIMEZONE
BEGIN:VEVENT
DTSTART;TZID=America/Los_Angeles:20260521T120000
DTEND;TZID=America/Los_Angeles:20260521T130000
DTSTAMP:20260421T002140
CREATED:20260322T213529Z
LAST-MODIFIED:20260413T225928Z
UID:10000742-1779364800-1779368400@cleanla.lacounty.gov
SUMMARY:Webinar: Small-Space Gardening
DESCRIPTION:Join our fun online chat to learn cool tips for gardening in tiny spaces!\n\n\nJoin Our Webinar: Small-Space Gardening!\nGot a tiny balcony or just a windowsill? No worries! This online webinar is perfect for anyone wanting to grow a garden in small spaces. We’ll share cool tips\, tricks\, and easy hacks to make your green space thrive. Whether you’re a newbie or a seasoned plant lover\, there’s something here for everyone. Grab your favorite drink\, get comfy\, and let’s dig into small-space gardening together!
URL:https://cleanla.lacounty.gov/event/webinar-small-space-gardening-25/
CATEGORIES:Small-Space Gardening
ATTACH;FMTTYPE=image/jpeg:https://cleanla.lacounty.gov/wp-content/uploads/sites/15/2026/03/7b0e32c3c42d71b483a75df8d9e2e34f.jpg
END:VEVENT
BEGIN:VEVENT
DTSTART;TZID=America/Los_Angeles:20260624T170000
DTEND;TZID=America/Los_Angeles:20260624T180000
DTSTAMP:20260421T002140
CREATED:20260328T053139Z
LAST-MODIFIED:20260413T225928Z
UID:10000761-1782320400-1782324000@cleanla.lacounty.gov
SUMMARY:Webinar: Small-Space Gardening
DESCRIPTION:Join our online webinar to master small-space gardening and grow big in tiny spots!\n\n\nJoin Our Webinar: Small-Space Gardening!\nDreaming of a lush garden but short on space? 🌿 This online session is perfect for you! Learn how to make the most of balconies\, patios\, or tiny backyards with easy\, fun gardening tips. Whether you’re a total newbie or just looking to up your green game\, we’ve got you covered. Grab your favorite drink\, cozy up with your device\, and let’s dig into the world of small-space gardening together. See you online!
URL:https://cleanla.lacounty.gov/event/webinar-small-space-gardening-26/
CATEGORIES:Small-Space Gardening
ATTACH;FMTTYPE=image/jpeg:https://cleanla.lacounty.gov/wp-content/uploads/sites/15/2026/03/d7992b03cc46639737b4c4f3799429a0.jpg
END:VEVENT
END:VCALENDAR