BEGIN:VCALENDAR
VERSION:2.0
PRODID:-//CleanLA - ECPv6.15.20//NONSGML v1.0//EN
CALSCALE:GREGORIAN
METHOD:PUBLISH
X-WR-CALNAME:CleanLA
X-ORIGINAL-URL:https://cleanla.lacounty.gov
X-WR-CALDESC:Events for CleanLA
REFRESH-INTERVAL;VALUE=DURATION:PT1H
X-Robots-Tag:noindex
X-PUBLISHED-TTL:PT1H
BEGIN:VTIMEZONE
TZID:America/Los_Angeles
BEGIN:DAYLIGHT
TZOFFSETFROM:-0800
TZOFFSETTO:-0700
TZNAME:PDT
DTSTART:20240310T100000
END:DAYLIGHT
BEGIN:STANDARD
TZOFFSETFROM:-0700
TZOFFSETTO:-0800
TZNAME:PST
DTSTART:20241103T090000
END:STANDARD
BEGIN:DAYLIGHT
TZOFFSETFROM:-0800
TZOFFSETTO:-0700
TZNAME:PDT
DTSTART:20250309T100000
END:DAYLIGHT
BEGIN:STANDARD
TZOFFSETFROM:-0700
TZOFFSETTO:-0800
TZNAME:PST
DTSTART:20251102T090000
END:STANDARD
BEGIN:DAYLIGHT
TZOFFSETFROM:-0800
TZOFFSETTO:-0700
TZNAME:PDT
DTSTART:20260308T100000
END:DAYLIGHT
BEGIN:STANDARD
TZOFFSETFROM:-0700
TZOFFSETTO:-0800
TZNAME:PST
DTSTART:20261101T090000
END:STANDARD
BEGIN:DAYLIGHT
TZOFFSETFROM:-0800
TZOFFSETTO:-0700
TZNAME:PDT
DTSTART:20270314T100000
END:DAYLIGHT
BEGIN:STANDARD
TZOFFSETFROM:-0700
TZOFFSETTO:-0800
TZNAME:PST
DTSTART:20271107T090000
END:STANDARD
END:VTIMEZONE
BEGIN:VEVENT
DTSTART;TZID=America/Los_Angeles:20260418T090000
DTEND;TZID=America/Los_Angeles:20260418T140000
DTSTAMP:20260424T165442
CREATED:20260324T232038Z
LAST-MODIFIED:20260413T230008Z
UID:10000749-1776502800-1776520800@cleanla.lacounty.gov
SUMMARY:Tire Recycling Event (in Lancaster)
DESCRIPTION:Drop off your old tires at LA County Public Works Road Yard #558 in the Antelope Valley and help keep our community clean and green!\n\n\nGot old tires taking up space? Swing by the Tire Collection Event in Littlerock! This is a perfect chance to drop off those worn-out tires safely and keep the environment clean. It’s an in-person event\, so come on down\, and get rid of those tires the easy way. Don’t miss out on this hassle-free cleanup opportunity!
URL:https://cleanla.lacounty.gov/event/tire-recycling-event-in-lancaster/
LOCATION:LA County Public Works Yard 555\, 17341 East Avenue J\, Lake Los Angeles\, CA\, 93535\, United States
CATEGORIES:Tire Recycling
ATTACH;FMTTYPE=image/jpeg:https://cleanla.lacounty.gov/wp-content/uploads/sites/15/2026/03/72bb784dbba20349215a8bf9fa4150fc.jpg
GEO:34.6911646;-117.8188043
X-APPLE-STRUCTURED-LOCATION;VALUE=URI;X-ADDRESS=LA County Public Works Yard 555 17341 East Avenue J Lake Los Angeles CA 93535 United States;X-APPLE-RADIUS=500;X-TITLE=17341 East Avenue J:geo:-117.8188043,34.6911646
END:VEVENT
BEGIN:VEVENT
DTSTART;TZID=America/Los_Angeles:20260221T090000
DTEND;TZID=America/Los_Angeles:20260221T140000
DTSTAMP:20260424T165442
CREATED:20251224T212313Z
LAST-MODIFIED:20260210T174017Z
UID:10000683-1771664400-1771682400@cleanla.lacounty.gov
SUMMARY:Mattress Collection Event (Lake LA)
DESCRIPTION:Join us at the Mattress Collection Event in Lancaster where you can drop off your old mattresses and box springs for recycling!\n\n\nMattress Collection Event (Lake LA)\nHey there! Don’t miss out on our Mattress Collection Event happening right in Lake LA. Have an old mattress or box spring taking up space at home? Don’t toss it\, bring them to us! We’ll make sure it gets recycled properly. Help keep our community clean and green by participating in this event. Let’s work together to make a positive impact. See you there!
URL:https://cleanla.lacounty.gov/event/mattress-collection-event-lake-la-4/
LOCATION:LA County Public Works Yard 555\, 17341 East Avenue J\, Lake Los Angeles\, CA\, 93535\, United States
CATEGORIES:Mattress Collection
ATTACH;FMTTYPE=image/jpeg:https://cleanla.lacounty.gov/wp-content/uploads/sites/15/2025/12/8fe3e5f8692c6022dab8bf8af41f8194.jpg
GEO:34.6911646;-117.8188043
X-APPLE-STRUCTURED-LOCATION;VALUE=URI;X-ADDRESS=LA County Public Works Yard 555 17341 East Avenue J Lake Los Angeles CA 93535 United States;X-APPLE-RADIUS=500;X-TITLE=17341 East Avenue J:geo:-117.8188043,34.6911646
END:VEVENT
BEGIN:VEVENT
DTSTART;TZID=America/Los_Angeles:20251213T090000
DTEND;TZID=America/Los_Angeles:20251213T140000
DTSTAMP:20260424T165442
CREATED:20250909T205022Z
LAST-MODIFIED:20251121T205500Z
UID:10000572-1765616400-1765634400@cleanla.lacounty.gov
SUMMARY:Mattress Collection Event (Lancaster)
DESCRIPTION:Join us at the Mattress Collection Event in Lancaster where you can drop off your old mattresses for recycling!\n\n\nMattress Collection Event (Lancaster) \nCome join us at the LA County Public Works Yard 555 for our mattress collection event! Have an old mattress taking up space at home? Don’t toss it\, bring it to us! We’ll make sure it gets recycled properly. Help keep our community clean and green by participating in this event. Let’s work together to make a positive impact. See you there!
URL:https://cleanla.lacounty.gov/event/mattress-collection-event-lancaster/
LOCATION:LA County Public Works Yard 555\, 17341 East Avenue J\, Lake Los Angeles\, CA\, 93535\, United States
CATEGORIES:Mattress Collection
ATTACH;FMTTYPE=image/jpeg:https://cleanla.lacounty.gov/wp-content/uploads/sites/15/2025/09/2faf8a6a165079c76ef489e3d4c4045b.jpg
GEO:34.6911646;-117.8188043
X-APPLE-STRUCTURED-LOCATION;VALUE=URI;X-ADDRESS=LA County Public Works Yard 555 17341 East Avenue J Lake Los Angeles CA 93535 United States;X-APPLE-RADIUS=500;X-TITLE=17341 East Avenue J:geo:-117.8188043,34.6911646
END:VEVENT
BEGIN:VEVENT
DTSTART;TZID=America/Los_Angeles:20251025T090000
DTEND;TZID=America/Los_Angeles:20251025T140000
DTSTAMP:20260424T165442
CREATED:20250929T161318Z
LAST-MODIFIED:20251022T153753Z
UID:10000594-1761382800-1761400800@cleanla.lacounty.gov
SUMMARY:Tire Collection Event (in Lake L.A.)
DESCRIPTION:Hey folks! Join us at the Tire Collection Event to drop off your old tires and help keep our community clean and green!\n\n\nTire Collection Event (in Lake L.A.) \nDate: October 25\, 2025 \nTime: 9:00 a.m. – 2:00 p.m. \nLocation: Public Works Road Yard 555 \nHey there\, tire owners of Lake L.A.! It’s time to get rid of those old\, unused tires cluttering up your space. Join us at the Tire Collection Event to responsibly dispose of your tires. Swing by the Public Works Road Yard 555 on the designated date and time to drop off your tires. Let’s keep our community clean and green together! See you there!
URL:https://cleanla.lacounty.gov/event/tire-collection-event-in-lake-l-a-2/
LOCATION:LA County Public Works Yard 555\, 17341 East Avenue J\, Lake Los Angeles\, CA\, 93535\, United States
CATEGORIES:Tire Recycling
ATTACH;FMTTYPE=image/jpeg:https://cleanla.lacounty.gov/wp-content/uploads/sites/15/2025/09/9c1a6fe0e14dac3cdccc4959bc4203c1.jpg
GEO:34.6911646;-117.8188043
X-APPLE-STRUCTURED-LOCATION;VALUE=URI;X-ADDRESS=LA County Public Works Yard 555 17341 East Avenue J Lake Los Angeles CA 93535 United States;X-APPLE-RADIUS=500;X-TITLE=17341 East Avenue J:geo:-117.8188043,34.6911646
END:VEVENT
BEGIN:VEVENT
DTSTART;TZID=America/Los_Angeles:20250920T090000
DTEND;TZID=America/Los_Angeles:20250920T140000
DTSTAMP:20260424T165442
CREATED:20250818T153129Z
LAST-MODIFIED:20250916T212357Z
UID:10000551-1758358800-1758376800@cleanla.lacounty.gov
SUMMARY:Mattress Collection Event (Lancaster)
DESCRIPTION:Hey folks! Bring your old mattresses to our Mattress Collection Event in Lake LA and let’s keep our community clean and green together!\n\n\nMattress Collection Event (in Lake LA) \nJoin us for our in-person Mattress Collection Event at the LA County Public Works Yard 555! Got old mattresses taking up space? Bring them over for proper disposal and recycling. Let’s keep our community clean and green together. Don’t miss out on this opportunity to declutter responsibly. See you there!
URL:https://cleanla.lacounty.gov/event/mattress-collection-event-in-lake-la/
LOCATION:LA County Public Works Yard 555\, 17341 East Avenue J\, Lake Los Angeles\, CA\, 93535\, United States
CATEGORIES:Mattress Collection
ATTACH;FMTTYPE=image/jpeg:https://cleanla.lacounty.gov/wp-content/uploads/sites/15/2025/08/678b47051d322ec455e42c85010e6c64.jpg
GEO:34.6911646;-117.8188043
X-APPLE-STRUCTURED-LOCATION;VALUE=URI;X-ADDRESS=LA County Public Works Yard 555 17341 East Avenue J Lake Los Angeles CA 93535 United States;X-APPLE-RADIUS=500;X-TITLE=17341 East Avenue J:geo:-117.8188043,34.6911646
END:VEVENT
BEGIN:VEVENT
DTSTART;TZID=America/Los_Angeles:20250628T090000
DTEND;TZID=America/Los_Angeles:20250628T140000
DTSTAMP:20260424T165442
CREATED:20250310T205329Z
LAST-MODIFIED:20250624T223953Z
UID:10000400-1751101200-1751119200@cleanla.lacounty.gov
SUMMARY:Mattress  Collection Event (in Lake LA)
DESCRIPTION:Looking to get rid of an old mattress? Just load it up & drop it off at a FREE Mattress Collection Event in Lake LA.\n\n\nFREE Mattress Collection & Recycling! \nGot old mattresses taking up space in your place? The LA County Countywide Mattress Recycling Program\, in partnership with the Mattress Recycling Council (MRC)\, will be hosting a FREE Mattress Collection Event at the Public Works Road Yard #555 in Lake LA. That’s right\, just load up those old mattresses/box springs/futons up and drop them off at this free event—because doing your part to keep your community clean and the environment green is always worth your time. See you there!
URL:https://cleanla.lacounty.gov/event/free-mattress-recycling-collection-event-3/
LOCATION:LA County Public Works Yard 555\, 17341 East Avenue J\, Lake Los Angeles\, CA\, 93535\, United States
CATEGORIES:Mattress Collection
ATTACH;FMTTYPE=image/jpeg:https://cleanla.lacounty.gov/wp-content/uploads/sites/15/2025/03/07bd54b6319c260c8dd58af310a9966c.jpg
GEO:34.6911646;-117.8188043
X-APPLE-STRUCTURED-LOCATION;VALUE=URI;X-ADDRESS=LA County Public Works Yard 555 17341 East Avenue J Lake Los Angeles CA 93535 United States;X-APPLE-RADIUS=500;X-TITLE=17341 East Avenue J:geo:-117.8188043,34.6911646
END:VEVENT
BEGIN:VEVENT
DTSTART;TZID=America/Los_Angeles:20250329T090000
DTEND;TZID=America/Los_Angeles:20250329T140000
DTSTAMP:20260424T165442
CREATED:20250310T205649Z
LAST-MODIFIED:20250320T053124Z
UID:10000403-1743238800-1743256800@cleanla.lacounty.gov
SUMMARY:Mattress Collection Event (in Lake LA)
DESCRIPTION:Looking to get rid of an old mattress?  Just load it up & drop it off at a FREE Mattress Collection Event in Lake LA.\n\n\nFREE Mattress Collection & Recycling! \nGot old mattresses taking up space in your place? The LA County Countywide Mattress Recycling Program (Public Works)\, in partnership with the Mattress Recycling Council (MRC)\, will be hosting a FREE Mattress Collection Event at the Public Works Road Yard in Lake LA\, Lancaster! That’s right\, just load up those old mattresses/box springs/futons up and drop them off at this free event—because doing your part to keep your community clean and the environment green is always worth your time. See you there!
URL:https://cleanla.lacounty.gov/event/free-mattress-recycling-collection-event-6/
LOCATION:LA County Public Works Yard 555\, 17341 East Avenue J\, Lake Los Angeles\, CA\, 93535\, United States
CATEGORIES:Mattress Collection
ATTACH;FMTTYPE=image/jpeg:https://cleanla.lacounty.gov/wp-content/uploads/sites/15/2025/03/2473bb0af1e38b846d2c93f93f0a4f7b.jpg
GEO:34.6911646;-117.8188043
X-APPLE-STRUCTURED-LOCATION;VALUE=URI;X-ADDRESS=LA County Public Works Yard 555 17341 East Avenue J Lake Los Angeles CA 93535 United States;X-APPLE-RADIUS=500;X-TITLE=17341 East Avenue J:geo:-117.8188043,34.6911646
END:VEVENT
BEGIN:VEVENT
DTSTART;TZID=America/Los_Angeles:20250301T090000
DTEND;TZID=America/Los_Angeles:20250301T140000
DTSTAMP:20260424T165442
CREATED:20250225T154750Z
LAST-MODIFIED:20250226T170130Z
UID:10000383-1740819600-1740837600@cleanla.lacounty.gov
SUMMARY:FREE Mattress Recycling Collection Event
DESCRIPTION:Bring your old mattresses for free recycling at our event – help the environment and declutter your home at the same time!\n\n\nFREE Mattress Recycling Collection Event \nJoin us at the LA County Public Works Yard 555 for our FREE Mattress Recycling Collection Event!  Got an old mattress taking up space?  Don’t worry\, we’ve got you covered!  Bring your old mattresses and box springs for recycling.  Help us keep our community clean and green by properly disposing of your old bedding.  Let’s work together to make a positive impact on the environment.  See you there!
URL:https://cleanla.lacounty.gov/event/free-mattress-recycling-collection-event-2/
LOCATION:LA County Public Works Yard 555\, 17341 East Avenue J\, Lake Los Angeles\, CA\, 93535\, United States
CATEGORIES:Mattress Collection
ATTACH;FMTTYPE=image/jpeg:https://cleanla.lacounty.gov/wp-content/uploads/sites/15/2025/02/0c8eb75f9f72c71b525327729ac21309.jpg
GEO:34.6911646;-117.8188043
X-APPLE-STRUCTURED-LOCATION;VALUE=URI;X-ADDRESS=LA County Public Works Yard 555 17341 East Avenue J Lake Los Angeles CA 93535 United States;X-APPLE-RADIUS=500;X-TITLE=17341 East Avenue J:geo:-117.8188043,34.6911646
END:VEVENT
END:VCALENDAR