BEGIN:VCALENDAR
VERSION:2.0
PRODID:-//CleanLA - ECPv6.15.20//NONSGML v1.0//EN
CALSCALE:GREGORIAN
METHOD:PUBLISH
X-WR-CALNAME:CleanLA
X-ORIGINAL-URL:https://cleanla.lacounty.gov
X-WR-CALDESC:Events for CleanLA
REFRESH-INTERVAL;VALUE=DURATION:PT1H
X-Robots-Tag:noindex
X-PUBLISHED-TTL:PT1H
BEGIN:VTIMEZONE
TZID:UTC
BEGIN:STANDARD
TZOFFSETFROM:+0000
TZOFFSETTO:+0000
TZNAME:UTC
DTSTART:20230101T000000
END:STANDARD
END:VTIMEZONE
BEGIN:VEVENT
DTSTART;TZID=UTC:20240518T090000
DTEND;TZID=UTC:20240518T140000
DTSTAMP:20260423T043101
CREATED:20240420T154920Z
LAST-MODIFIED:20240420T154920Z
UID:10000075-1716022800-1716040800@cleanla.lacounty.gov
SUMMARY:Free Mattress Recycling Collection Event - Quartz Hill
DESCRIPTION:Free Mattress Recycling Collection Event
URL:https://cleanla.lacounty.gov/event/free-mattress-recycling-collection-event-quartz-hill/
LOCATION:Public Works Yard #551\, 4859 West Ave L 12\,\, Quartz Hill\, CA\, 93536\, United States
CATEGORIES:Mattress Collection
ATTACH;FMTTYPE=image/jpeg:https://cleanla.lacounty.gov/wp-content/uploads/sites/15/2024/03/commercial-mattress-recycling-1024x768-1.jpg
GEO:34.649652;-118.2178941
X-APPLE-STRUCTURED-LOCATION;VALUE=URI;X-ADDRESS=Public Works Yard #551 4859 West Ave L 12 Quartz Hill CA 93536 United States;X-APPLE-RADIUS=500;X-TITLE=4859 West Ave L 12\,:geo:-118.2178941,34.649652
END:VEVENT
END:VCALENDAR