BEGIN:VCALENDAR
VERSION:2.0
PRODID:-//CleanLA - ECPv6.15.20//NONSGML v1.0//EN
CALSCALE:GREGORIAN
METHOD:PUBLISH
X-WR-CALNAME:CleanLA
X-ORIGINAL-URL:https://cleanla.lacounty.gov
X-WR-CALDESC:Events for CleanLA
REFRESH-INTERVAL;VALUE=DURATION:PT1H
X-Robots-Tag:noindex
X-PUBLISHED-TTL:PT1H
BEGIN:VTIMEZONE
TZID:America/Los_Angeles
BEGIN:DAYLIGHT
TZOFFSETFROM:-0800
TZOFFSETTO:-0700
TZNAME:PDT
DTSTART:20240310T100000
END:DAYLIGHT
BEGIN:STANDARD
TZOFFSETFROM:-0700
TZOFFSETTO:-0800
TZNAME:PST
DTSTART:20241103T090000
END:STANDARD
BEGIN:DAYLIGHT
TZOFFSETFROM:-0800
TZOFFSETTO:-0700
TZNAME:PDT
DTSTART:20250309T100000
END:DAYLIGHT
BEGIN:STANDARD
TZOFFSETFROM:-0700
TZOFFSETTO:-0800
TZNAME:PST
DTSTART:20251102T090000
END:STANDARD
BEGIN:DAYLIGHT
TZOFFSETFROM:-0800
TZOFFSETTO:-0700
TZNAME:PDT
DTSTART:20260308T100000
END:DAYLIGHT
BEGIN:STANDARD
TZOFFSETFROM:-0700
TZOFFSETTO:-0800
TZNAME:PST
DTSTART:20261101T090000
END:STANDARD
END:VTIMEZONE
BEGIN:VEVENT
DTSTART;TZID=America/Los_Angeles:20251018T103000
DTEND;TZID=America/Los_Angeles:20251018T133000
DTSTAMP:20260420T204056
CREATED:20250903T155649Z
LAST-MODIFIED:20251020T202551Z
UID:10000565-1760783400-1760794200@cleanla.lacounty.gov
SUMMARY:LA Fixit Clinic
DESCRIPTION:Do you have a household item in need of repair? Don’t trash it! Come fit it for FREE. We will provide the space\, tools\, and expert coaches.\n\n\nRSVP at the following link: LA Fixit Clinic in Santa Clarita
URL:https://cleanla.lacounty.gov/event/la-fixit-clinic-3/
LOCATION:Valencia Public Library\, 23743 Valencia Boulevard\, Santa Clarita\, CA\, 91355\, United States
CATEGORIES:Fixit Clinic
ATTACH;FMTTYPE=image/jpeg:https://cleanla.lacounty.gov/wp-content/uploads/sites/15/2025/08/69037dd1f87165563d6704933f772a07.jpg
GEO:34.4154012;-118.5508894
X-APPLE-STRUCTURED-LOCATION;VALUE=URI;X-ADDRESS=Valencia Public Library 23743 Valencia Boulevard Santa Clarita CA 91355 United States;X-APPLE-RADIUS=500;X-TITLE=23743 Valencia Boulevard:geo:-118.5508894,34.4154012
END:VEVENT
END:VCALENDAR